BEGIN:VCALENDAR
VERSION:2.0
PRODID:-//Robin - ECPv6.15.20//NONSGML v1.0//EN
CALSCALE:GREGORIAN
METHOD:PUBLISH
X-WR-CALNAME:Robin
X-ORIGINAL-URL:https://www.robin.si
X-WR-CALDESC:Dogodki za Robin
REFRESH-INTERVAL;VALUE=DURATION:PT1H
X-Robots-Tag:noindex
X-PUBLISHED-TTL:PT1H
BEGIN:VTIMEZONE
TZID:Europe/Ljubljana
BEGIN:DAYLIGHT
TZOFFSETFROM:+0100
TZOFFSETTO:+0200
TZNAME:CEST
DTSTART:20250330T010000
END:DAYLIGHT
BEGIN:STANDARD
TZOFFSETFROM:+0200
TZOFFSETTO:+0100
TZNAME:CET
DTSTART:20251026T010000
END:STANDARD
BEGIN:DAYLIGHT
TZOFFSETFROM:+0100
TZOFFSETTO:+0200
TZNAME:CEST
DTSTART:20260329T010000
END:DAYLIGHT
BEGIN:STANDARD
TZOFFSETFROM:+0200
TZOFFSETTO:+0100
TZNAME:CET
DTSTART:20261025T010000
END:STANDARD
BEGIN:DAYLIGHT
TZOFFSETFROM:+0100
TZOFFSETTO:+0200
TZNAME:CEST
DTSTART:20270328T010000
END:DAYLIGHT
BEGIN:STANDARD
TZOFFSETFROM:+0200
TZOFFSETTO:+0100
TZNAME:CET
DTSTART:20271031T010000
END:STANDARD
END:VTIMEZONE
BEGIN:VEVENT
DTSTART;TZID=Europe/Ljubljana:20260411T173000
DTEND;TZID=Europe/Ljubljana:20260531T173000
DTSTAMP:20260422T105434
CREATED:20260326T064210Z
LAST-MODIFIED:20260326T064213Z
UID:87690-1775928600-1780248600@www.robin.si
SUMMARY:VIPOLŽE\, Vila Vipolže - Razstava: Consuelo Rodriguez
DESCRIPTION:Vljudno vabljeni na otvoritev razstave Controccanto umetnice Consuele Rodriguez – slikarke\, kiparke\, pesnice in umetnostne terapevtke\, ki bo v soboto\, 11. aprila 2026\, ob 17.30 v Vili Vipolže. \nPridružite se nam na večeru umetnosti in doživite njena izjemna dela. \n\nConsuelo Rodriguez (rojena v Trstu) je poučevala na Akademiji likovnih umetnosti Tiepolo v Vidmu ter delovala kot gostujoča predavateljica na Mednarodni akademiji umetnosti v Kolbermoorju (Nemčija). \nIzobraževala se je pri priznanih umetnikih\, kot so Hermann Nitsch\, Isabel Quintanilla\, Markus Lüpertz in Zhou Brothers. Njeno ustvarjanje obsega slikarstvo\, kiparstvo in dela velikih formatov. Svoja dela je predstavila na številnih razstavah doma in po svetu (New York\, Chicago\, Miami\, Šanghaj\, Berlin\, London\, Pariz\, Salzburg\, Istanbul). \nNjena umetniška dela so del javnih in zasebnih zbirk po vsej Evropi. \nZa svoje ustvarjanje je prejela številne nagrade za slikarstvo in poezijo. Njene pesniške zbirke so prevedene v več jezikov\, med drugim v angleščino\, slovenščino\, albanščino in romunščino. Med pomembnejšimi priznanji sta tudi Mednarodni literarni nagradi\, ki ju je prejela v Neaplju leta 2022 in 2024. \n\nRazstava bo na ogled do 31. 5. 2026.
URL:https://www.robin.si/dogodek/vipolze-vila-vipolze-razstava-consuelo-rodriguez/
END:VEVENT
BEGIN:VEVENT
DTSTART;TZID=Europe/Ljubljana:20260422T180000
DTEND;TZID=Europe/Ljubljana:20260531T180000
DTSTAMP:20260422T105434
CREATED:20260416T095858Z
LAST-MODIFIED:20260416T095900Z
UID:89059-1776880800-1780250400@www.robin.si
SUMMARY:SEŽANA\, Kosovelov dom - Razstava: Zlata kraška nit
DESCRIPTION:Razstava Jane Pečečnik\, diplomirane oblikovalke vizualnih komunikacij je zasnovana kot pot v svet simbolov\, ki so nekoč spremljali dom\, odnose in življenjske prehode. Avtorica iz kraške dediščine in staroverskih vzorcev z vsebinsko\, simbolno in duhovno vrednostjo\, izpeljuje likovno-estetsko dovršene ter avtorsko močne in prefinjene Zlate obroče. V raznolikih unikatnih kosih se še vedno polnomočno udejanja globoka in večplastna povezanost človeka z naravo\, ki je tudi sicer Janino življenjsko in ustvarjalno vodilo. \nRazstava bo na ogled do konca maja 2026.
URL:https://www.robin.si/dogodek/sezana-kosovelov-dom-razstava-zlata-kraska-nit-2/
END:VEVENT
BEGIN:VEVENT
DTSTART;TZID=Europe/Ljubljana:20260505T200000
DTEND;TZID=Europe/Ljubljana:20260609T180000
DTSTAMP:20260422T105434
CREATED:20260422T072256Z
LAST-MODIFIED:20260422T072259Z
UID:89447-1778011200-1781028000@www.robin.si
SUMMARY:NOVA GORICA\, dvorana frančiškanskega samostana na Kostanjevici - Glasba z vrtov sv Frančiška
DESCRIPTION:5.5.2026 ob 20.00: KONCERT NAGRAJENCA 5. MUSICA GORITIENSIS: Edward Walton (AUT\, VB) \n12.5.2026 ob 20.00: DEKLIŠKI PEVSKI ZBOR IGO GRUDEN: Kot vonj po cvetju \n19.5.2026 ob 20.00: EVA FAGANELJ\, flavta in EVA DOLINŠEK\, čembalo \n26.5.2026 ob 20.00: KONCERT NAGRAJENCA 55. TEKMOVANJA TEMSIG: Maj Špacapan \n2.6.2026 ob 20.00: EVELIN in VALERIJ GREBLO\, harfa \n9.6.2026 ob 18.00: MLADI GLASBENI BISERI\, nagrajenci primorskih glasbenih šol na glasbenih tekmovanjih 25/26
URL:https://www.robin.si/dogodek/nova-gorica-dvorana-franciskanskega-samostana-na-kostanjevici-glasba-z-vrtov-sv-franciska/
END:VEVENT
BEGIN:VEVENT
DTSTART;TZID=Europe/Ljubljana:20260530T200000
DTEND;TZID=Europe/Ljubljana:20260530T200000
DTSTAMP:20260422T105434
CREATED:20260420T131448Z
LAST-MODIFIED:20260420T131451Z
UID:89298-1780171200-1780171200@www.robin.si
SUMMARY:AJDOVŠČINA\, Rustjeva hiša kruha - Glasbeni večer: Turnaround soul funky band
DESCRIPTION:Ob zaključku majskega koncertnega dogajanja v Rustjevi hiši kruha vas čaka večer s Turnaround Soul Funky Band. Ekipa prinaša energičen poklon glasbi 60. in 70. let\, obdobju\, ki je zaznamovalo razvoj soula\, funka in plesne groove kulture. \nGre za mednarodno zasedbo šestih glasbenikov iz Italije in Slovenije\, ki jih druži ljubezen do glasbe in odra – ter sposobnost\, da s svojo energijo hitro ustvarijo pravo koncertno vzdušje. Njihovi nastopi so prežeti z nalezljivimi ritmi\, izrazitim vokalom in bogatim instrumentalnim zvokom\, ki občinstva ne pusti ravnodušnega. \nZasedbo sestavljajo:\n– Natanelle Flamini (bas)\n– Grega Gregorič (bobni)\n– Ivan Nardini (kitara)\n– Veronique Plaino (vokal)\n– Matic Mikola (saksofon)\n– Blaž Pahor (klaviature) \nNa odru skupaj ustvarjajo dinamično glasbeno izkušnjo\, ki združuje brezčasne hite in avtentičen občutek zlate dobe soula in funka. \nVabljeni na večer\, poln ritma\, plesa in dobre energije!
URL:https://www.robin.si/dogodek/ajdovscina-rustjeva-hisa-kruha-glasbeni-vecer-turnaround-soul-funky-band/
END:VEVENT
BEGIN:VEVENT
DTSTART;TZID=Europe/Ljubljana:20260530T200000
DTEND;TZID=Europe/Ljubljana:20260530T200000
DTSTAMP:20260422T105434
CREATED:20260421T121432Z
LAST-MODIFIED:20260421T121434Z
UID:89370-1780171200-1780171200@www.robin.si
SUMMARY:SEŽANA\, Kosovelov dom - Gala večer: Jacques Houdek z gostjo Nuško Drašček
DESCRIPTION:Jacques Houdek je hrvaški vrhunski vokalist\, znan po svoji vsestranskosti. Za Hrvaško je nastopal na Evroviziji 2017. Izdal je številne posnetke in albume\, ki so bili nagrajeni s srebrno\, zlato in platinasto naklado. \nNuška Drašček je vsestranska slovenska pevka z izjemnim vokalnim razponom in močno odrsko prezenco. \nPod taktirko dirigentke\, pedagoginje\, skladateljice in umetniške vodje Andreje Tomažič Hrvatin bodo pevke in pevci Mešanega pevskega zbora Sežana\, vokalne skupine Karina in moškega pevskega zbora Slavnik obogatili gala večer.
URL:https://www.robin.si/dogodek/sezana-kosovelov-dom-gala-vecer-jacques-houdek-z-gostjo-nusko-drascek/
END:VEVENT
END:VCALENDAR