BEGIN:VCALENDAR
VERSION:2.0
PRODID:-//Robin - ECPv6.15.20//NONSGML v1.0//EN
CALSCALE:GREGORIAN
METHOD:PUBLISH
X-WR-CALNAME:Robin
X-ORIGINAL-URL:https://www.robin.si
X-WR-CALDESC:Dogodki za Robin
REFRESH-INTERVAL;VALUE=DURATION:PT1H
X-Robots-Tag:noindex
X-PUBLISHED-TTL:PT1H
BEGIN:VTIMEZONE
TZID:Europe/Ljubljana
BEGIN:DAYLIGHT
TZOFFSETFROM:+0100
TZOFFSETTO:+0200
TZNAME:CEST
DTSTART:20250330T010000
END:DAYLIGHT
BEGIN:STANDARD
TZOFFSETFROM:+0200
TZOFFSETTO:+0100
TZNAME:CET
DTSTART:20251026T010000
END:STANDARD
BEGIN:DAYLIGHT
TZOFFSETFROM:+0100
TZOFFSETTO:+0200
TZNAME:CEST
DTSTART:20260329T010000
END:DAYLIGHT
BEGIN:STANDARD
TZOFFSETFROM:+0200
TZOFFSETTO:+0100
TZNAME:CET
DTSTART:20261025T010000
END:STANDARD
BEGIN:DAYLIGHT
TZOFFSETFROM:+0100
TZOFFSETTO:+0200
TZNAME:CEST
DTSTART:20270328T010000
END:DAYLIGHT
BEGIN:STANDARD
TZOFFSETFROM:+0200
TZOFFSETTO:+0100
TZNAME:CET
DTSTART:20271031T010000
END:STANDARD
END:VTIMEZONE
BEGIN:VEVENT
DTSTART;TZID=Europe/Ljubljana:20260326T183000
DTEND;TZID=Europe/Ljubljana:20260509T183000
DTSTAMP:20260422T105713
CREATED:20260326T081922Z
LAST-MODIFIED:20260326T081925Z
UID:87702-1774549800-1778351400@www.robin.si
SUMMARY:KANAL OB SOČI\, Galerija Rika Debenjaka - Razstava Branislav Buh - Bato: Korenine življenja\, pregledna razstava
DESCRIPTION:
URL:https://www.robin.si/dogodek/kanal-ob-soci-galerija-rika-debenjaka-razstava-branislav-buh-bato-korenine-zivljenja-pregledna-razstava/
END:VEVENT
BEGIN:VEVENT
DTSTART;TZID=Europe/Ljubljana:20260328T190000
DTEND;TZID=Europe/Ljubljana:20260510T190000
DTSTAMP:20260422T105713
CREATED:20260324T070954Z
LAST-MODIFIED:20260324T070956Z
UID:87567-1774724400-1778439600@www.robin.si
SUMMARY:LOKAVEC\, Klub Štala - Razstava: Enigma dell'Io - PINO BONANNO
DESCRIPTION:PINO BONANNO – slikar\, pesnik\, umetnostni kritik\, galerist\, kurator umetniških dogodkov\, živi v Grožnjanu (HR)\, kjer vodi »Gaia Gallery«. \nDiplomiral je iz političnih ved in umetnostne zgodovine. Poučeval je umetnostno zgodovino in zgodovino italijanske književnosti. Ustanovil in vodil je založbo FONÉMA. Je idejni snovalec in ustanovitelj umetniškega gibanja »Cromatismo Ermetico«. Bil je urednik revije za sodobno umetnost »Futuro« in ustanovitelj umetniške revije »KunstARTE«. \nKot umetnostni kritik je v Italiji in tujini organiziral številne umetniške razstave. Njegova dela se nahajajo v mednarodnih javnih in zasebnih zbirkah. \nKot kurator kulturnih dogodkov je vodil projekt »Via Nova« v Vestfaliji (D); pet edicij »Pentagonale« v Istri; številne mednarodne razstave z umetniki svetovnega slovesa (Italija\, Nemčija\, Avstrija\, Hrvaška\, Slovenija\, Nizozemska); 1. izdajo bienala umetnosti v Deruti (I) (2008); izdajo 2008 »In Chartis Mevaniae« v Bevagni (I); dve izdaji bienala v Bettoni (2010–2012) (I) ter prvo izdajo »ProArte« v Torgianu (I) itd. \nŠtevilne so njegove razstave v Italiji in tujini.
URL:https://www.robin.si/dogodek/lokavec-klub-stala-razstava-enigma-dellio-pino-bonanno/
END:VEVENT
BEGIN:VEVENT
DTSTART;TZID=Europe/Ljubljana:20260411T173000
DTEND;TZID=Europe/Ljubljana:20260531T173000
DTSTAMP:20260422T105713
CREATED:20260326T064210Z
LAST-MODIFIED:20260326T064213Z
UID:87690-1775928600-1780248600@www.robin.si
SUMMARY:VIPOLŽE\, Vila Vipolže - Razstava: Consuelo Rodriguez
DESCRIPTION:Vljudno vabljeni na otvoritev razstave Controccanto umetnice Consuele Rodriguez – slikarke\, kiparke\, pesnice in umetnostne terapevtke\, ki bo v soboto\, 11. aprila 2026\, ob 17.30 v Vili Vipolže. \nPridružite se nam na večeru umetnosti in doživite njena izjemna dela. \n\nConsuelo Rodriguez (rojena v Trstu) je poučevala na Akademiji likovnih umetnosti Tiepolo v Vidmu ter delovala kot gostujoča predavateljica na Mednarodni akademiji umetnosti v Kolbermoorju (Nemčija). \nIzobraževala se je pri priznanih umetnikih\, kot so Hermann Nitsch\, Isabel Quintanilla\, Markus Lüpertz in Zhou Brothers. Njeno ustvarjanje obsega slikarstvo\, kiparstvo in dela velikih formatov. Svoja dela je predstavila na številnih razstavah doma in po svetu (New York\, Chicago\, Miami\, Šanghaj\, Berlin\, London\, Pariz\, Salzburg\, Istanbul). \nNjena umetniška dela so del javnih in zasebnih zbirk po vsej Evropi. \nZa svoje ustvarjanje je prejela številne nagrade za slikarstvo in poezijo. Njene pesniške zbirke so prevedene v več jezikov\, med drugim v angleščino\, slovenščino\, albanščino in romunščino. Med pomembnejšimi priznanji sta tudi Mednarodni literarni nagradi\, ki ju je prejela v Neaplju leta 2022 in 2024. \n\nRazstava bo na ogled do 31. 5. 2026.
URL:https://www.robin.si/dogodek/vipolze-vila-vipolze-razstava-consuelo-rodriguez/
END:VEVENT
BEGIN:VEVENT
DTSTART;TZID=Europe/Ljubljana:20260417T190000
DTEND;TZID=Europe/Ljubljana:20260522T190000
DTSTAMP:20260422T105713
CREATED:20260410T052144Z
LAST-MODIFIED:20260410T052147Z
UID:88662-1776452400-1779476400@www.robin.si
SUMMARY:NOVA GORICA\, Mestna galerija - Razstava ilustracij: TRIS
DESCRIPTION:Slovenska knjižna ilustracija predstavlja enega najvitalnejših segmentov sodobne vizualne umetnosti\, ki kljub svoji razširjenosti\, pogosto deluje izven prevladujočih umetniških tokov. Njena moč je prav v prepletu – med besedo in podobo\, med pripovedjo in interpretacijo\, med intimnim in univerzalnim. S svojo izrazno raznolikostjo ter vzgojno in estetsko funkcijo ostaja nepogrešljiv del kulturnega prostora. \nRazstava TRIS – ilustracije\, ki jo kuratorsko podpisuje Tatjana Pregl Kobe\, združuje dela treh izjemnih slovenskih ilustratork: Ane Maraž\, Tine Volarič in Ane Zavadlav\, ki izhajajo iz goriškega prostora. Vsaka izmed njih s samosvojo likovno govorico oblikuje prepoznaven umetniški svet\, skupaj pa ustvarjajo večplastno podobo sodobne slovenske ilustracije. \nAna Maraž razvija minimalistično\, ploskovito in barvno izčiščeno vizualno poetiko\, ki izhaja iz principov redukcije in stilizacije. Njene ilustracije prehajajo med realnim in abstraktnim ter z občuteno mero interpretacije odpirajo prostor domišljiji bralca. \nTina Volarič v svojih delih prepleta ilustracijo\, poezijo in simbolno govorico narave. Njena dela niso zgolj vizualne spremljave besedil\, temveč samostojni\, kontemplativni svetovi\, v katerih se zrcalijo tišina\, notranja stanja in povezanost človeka z okoljem. \nAna Zavadlav izstopa po širokem spektru likovnega izraza in tehnični dovršenosti. Njene ilustracije segajo od igrivih\, barvitih podob do subtilnih\, zadržanih črno-belih risb\, pri čemer vedno ohranjajo izrazito pripovedno moč in prefinjen občutek za\natmosfero. \nRazstava osvetljuje raznolikost pristopov\, ki zaznamujejo sodobno ilustracijo – od minimalističnih in konceptualnih rešitev do bogatih\, narativnih in čustveno nabitih podob. Hkrati potrjuje\, da ilustracija danes ni več zgolj spremljevalka besedila\, temveč avtonomna umetniška praksa\, ki suvereno vstopa v širši likovni prostor. Prikazuje tri povsem različne ustvarjalne poetike ter je hkrati poklon bogati tradiciji slovenske ilustracije in njenemu nadaljnjemu razvoju.
URL:https://www.robin.si/dogodek/nova-gorica-mestna-galerija-razstava-ilustracij-tris-2/
END:VEVENT
BEGIN:VEVENT
DTSTART;TZID=Europe/Ljubljana:20260422T180000
DTEND;TZID=Europe/Ljubljana:20260531T180000
DTSTAMP:20260422T105713
CREATED:20260416T095858Z
LAST-MODIFIED:20260416T095900Z
UID:89059-1776880800-1780250400@www.robin.si
SUMMARY:SEŽANA\, Kosovelov dom - Razstava: Zlata kraška nit
DESCRIPTION:Razstava Jane Pečečnik\, diplomirane oblikovalke vizualnih komunikacij je zasnovana kot pot v svet simbolov\, ki so nekoč spremljali dom\, odnose in življenjske prehode. Avtorica iz kraške dediščine in staroverskih vzorcev z vsebinsko\, simbolno in duhovno vrednostjo\, izpeljuje likovno-estetsko dovršene ter avtorsko močne in prefinjene Zlate obroče. V raznolikih unikatnih kosih se še vedno polnomočno udejanja globoka in večplastna povezanost človeka z naravo\, ki je tudi sicer Janino življenjsko in ustvarjalno vodilo. \nRazstava bo na ogled do konca maja 2026.
URL:https://www.robin.si/dogodek/sezana-kosovelov-dom-razstava-zlata-kraska-nit-2/
END:VEVENT
BEGIN:VEVENT
DTSTART;TZID=Europe/Ljubljana:20260425T100000
DTEND;TZID=Europe/Ljubljana:20260517T150000
DTSTAMP:20260422T105713
CREATED:20260421T121336Z
LAST-MODIFIED:20260421T121339Z
UID:89368-1777111200-1779030000@www.robin.si
SUMMARY:KRAS IN BRKINI - Festival Kraška gmajna
DESCRIPTION:Sobota\, 25. april 2026 ob 10.00\nSkrivnostni svet suhih zidov (Park Škocjanske jame)\nKdo živi v suhem zidu? Pridružite se in odkrijte! Sprehodili se bomo med suhimi zidovi v Parku Škocjanske jame in odkrili\, kateri prebivalci jih naseljujejo. Luknje med kamni so namreč dom in skrivališče zanimivim živalim in rastlinam. Sprehod bo kratek in nezahteven\, primeren za družine z otroki in vse\, ki jih navdušuje preplet naravne in kulturne dediščine. Dogodek bo organiziran v okviru projekta ZA KRAS 2\, naložbo sofinancira Evropska unija. Vodenje bo potekalo v slovenskem in angleškem jeziku. \nZbirno mesto: Sprejemni center Parka Škocjanske jame\, Matavun 12\n45.66313750847321\, 13.989217242968428\nPrijave in dodatne informacije: Nina Štrekelj na e-naslovu nina.strekelj@psj.si in tel. št. +386 5 708 21 25\nOrganizator: Park Škocjanske jame \n\nSobota\, 25. april 2026 ob 15.00\nJamsko raziskovanje in meditacija (Divaška jama)\nVabljeni na edinstveno izkušnjo\, kjer se podamo v tišino in skrivnostnost jame. Ob vodenem raziskovanju bomo upočasnili korak\, prisluhnili naravi in začutili moč Zemlje\, ki nas obdaja. Ob zaključku sledi vodena meditacija\, namenjena prizemljitvi ter poglabljanju povezave z materjo Zemljo in našimi koreninami. Skozi nežno usmerjanje bomo povabili občutek podpore\, pripadnosti in povezanosti – tako s sabo kot z nečim večjim. Dogodek bomo zaključili v sprejemnem centru ob čajanki in sproščenem druženju. Vodenje poteka v slovenskem in angleškem jeziku. \nZbirno mesto: Sprejemni center pred Divaško jamo\nN 45° 40.513′ E 013° 57.035′\nPrijave in dodatne informacije: Divaška jama na e-naslovu info@divaska-jama.info ali tel. št. +386 40 513 310\nOrganizator: Jamarsko društvo Gregor Žiberna Divača \n\nNedelja\, 26. april 2026 ob 15.00\nNaravoslovni voden ogled Štanjela in Muzeja Narava in človek na Krasu (Štanjel)\nRazstava Narava in človek na Krasu v Muzeju grad Štanjel predstavlja sedem tematskih sklopov\, značilnih za Kras:  kamen\, vodo\, burjo\, kraškega ovčarja\, mozaično kraško kulturno krajino\, kraške jame ter človek in Kras. Na tokratnem dogodku se bomo poglobili v sklop kraške jame in kraška kulturna krajina. Po ogledu muzeja sledi še voden sprehod po Štanjelu s poudarkom na naravni in kulturni dediščini tega prostora. \nZbirno mesto: Center za obiskovalce Grad Štanjel\n45° 49′ 25.35″ N\, 13° 50′ 41.43″ E\nPrijave in dodatne informacije: Center za obiskovalce Grad Štanjel na e-naslovu stanjel@visitkras.info ali tel. št. +386 41 383 986\nOrganizator: ORA Krasa in Brkinov \n\nPonedeljek\, 27. april 2026 ob 9.00\nVoda\, glina in človek (Vipavska dolina\, Črni hribi\, Cerje)\nVoda je od nekdaj predstavljala vir življenja. Njen pomen je ključen v apnenčastem kraškem svetu\, kjer vsa voda odteče v podzemlje. Posebno vlogo je prav zato imela glina\, ki je omogočala ustvarjanje "zalogovnikov" za vodo na Krasu: kalov\, lokev\, štirn ... A ko se spustimo v Vipavsko dolino\, je vode na vsem lepem na pretek. Pojavi se reka Vipava\, za "vodne zalogovnike" pa nastopijo novi izrazi\, na primer "pč". O lokalnih\, z vodo povezanih temah\, bomo govorili na kolesarskem izletu\, obiskali pa bomo tudi lokalne ponudnike izdelkov iz gline. Vodenje poteka v slovenskem in angleškem jeziku. \nZbirno mesto: Cerje\, Lokvica 18\n45° 52′ 20.52″ N\, 13° 36′ 58.72″ E\nPrijave in dodatne informacije: Irena Hlede na e-naslovu irena@gremozeleno.eu ali tel. št. +386 40 264 433\nOrganizator: TA GremoZeleno | TakeGreenway \n\nČetrtek\, 30. april 2026 ob 10.00\nDetektivi na kraški gmajni (Mitski park Rodik)\nDružinska pustolovščina Detektivi na kraški gmajni je interaktivno doživetje v Mitskem parku\, ki združuje geološko dediščino Krasa in mitsko izročilo. Skozi analogen geolov na osmih točkah bomo raziskovali kraške pojave\, kot so škraplje\, vrtače in apnenec\, ter jih povezali z zgodbami Rodiških pravc. Aktivnost spodbuja opazovanje\, gibanje v naravi ter razumevanje naravne in kulturne dediščine na doživljajski način. Vodenje poteka v slovenskem in angleškem jeziku. \nZbirno mesto: Parkirišče pri trgovini Fama v Hrpeljah\n45° 36′ 20.01″ N\, 13° 56′ 50.07″ E\nPrijave in dodatne informacije: Vesna Vodnik na e-naslovu info@mitski-park.eu in tel. št. +386 70 569 882\nOrganizator: ORA Krasa in Brkinov \n\nNedelja\, 3. maj 2026 ob 9.30\nPreplet narave in tehniške dediščine (Klanec pri Kozini)\nSte vedeli\, da parna lokomotiva za vožnjo porabi več tisoč litrov vode? Spoznajte nekdanjo vodno črpalko na progi Trst–Kozina–Pulj\, odkrijte lepote ob Krajinskem parku Beka in dolini Glinščice ter se sprehodite skozi vas Klanec pri Kozini\, ki je nekoč veljala za pomembno križišče na poti do obale. Zaključek bo v znamenju Brkinov – degustacije ciderja in soka iz domačih brkinskih jabolk. Vodenje poteka v slovenskem in angleškem jeziku. \nZbirno mesto: Parkirišče vodne črpalke Klanec pri Kozini\n45° 35′ 40.35″ N\, 13° 55′ 30.76″ E\nPrijave in dodatne informacije: Vesna Vodnik na e-naslovu info@mitski-park.eu in tel. št. +386 70 569 882\nOrganizatorja: Malner d.o.o. ter ORA Krasa in Brkinov \n\nNedelja\, 3. maj 2026 ob 9.30\nS Cola čez Tabor do Vogelj in nazaj: sprehod med naravo in kulturo (Col)\nPo lahki krožni poti se bomo s Cola povzpeli na Tabor\, kjer se odpira čudovit razgled od Tržaškega zaliva do slovenskih hribov. Nadaljevali bomo po gozdu\, med cvetočimi travniki\, do vasi Voglje. Med vrnitvijo proti Colu bomo pot nadaljevali med dolinami s pogledom na Tabor v ozadju. Sprehod bodo obogatile naravoslovne\, geološke in zgodovinske zanimivosti za še boljše spoznavanje enega najbolj slikovitih kotičkov tega območja. Pot je dolga približno 5 km\, v glavnem položna\, in poteka po stezah in makadamskih cestah\, popolna izbira za prijeten izlet v naravo. Vodenje bo potekalo v slovenskem in italijanskem jeziku. \nZbirno mesto: Parkirišče pri pokopališču na Colu\n45°43'01.8"N 13°48'19.1"E\nPrijave in dodatne informacije: Barbara Bassi na e-naslovu curiosidinatura@gmail.com ali tel. št. +39 34 055 69 374\nOrganizator: Zadruga Curiosi di natura soc. coop. \n\nTorek\, 5. maj 2026 ob 17.00\nSprehod po kraškem robu s konji in brkinskimi dobrotami (Klanec pri Kozini)\nOdpravimo se na sprehod med čredo konj\, ki živijo svobodno na prostranih pašnikih Kraškega roba pod Slavnikom. Skrbniki črede bodo predstavili svoje delo ter bogato floro in favno. Cvetoči žajbelj in ruj ter kulinarične dobrote iz Brkinov pa bodo poskrbeli za nepozabno doživetje! Vodenje poteka v slovenskem in angleškem jeziku. \nZbirno mesto: Parkirišče vodne črpalke Klanec pri Kozini\n45° 35′ 40.35″ N\, 13° 55′ 30.76″ E\nPrijave in dodatne informacije: Institut Pastirica\, Boris Magdalenc\, na e-naslovu institut.pastirica@gmail.com ali tel. št. +386 51 245 268\nOrganizator: Institut Pastirica \n  \nPetek\, 8. maj 2026 ob 16.30\nZeliščarski sprehod po Babinem krogu v Mitskem parku (Hrpelje)\nZeliščarski sprehod po Babinem krogu v Mitskem parku Rodik ponuja edinstveno priložnost za spoznavanje rastlin kraške gmajne v njihovem naravnem okolju. Pod vodstvom dr. Sama Krefta bomo odkrivali bogato biodiverziteto prostora\, kjer se prepletajo kamen\, terra rossa in raznolika mikroklima. Spoznajte zdravilne rastline\, njihovo prepoznavanje ter praktično uporabo v vsakdanjem življenju. Vodenje poteka v slovenskem in angleškem jeziku. \nZbirno mesto: Parkirišče pri trgovini Fama v Hrpeljah\n45°36'20.2"N 13°56'50.2"E\nPrijave in dodatne informacije: Vesna Vodnik na e-naslovu info@mitski-park.eu in tel. št. +386 70 569 882\nOrganizatorji: Sodobna fitoterapija - farmacevtsko raziskovanje\, razvoj in svetovanje\, Samo Kreft s.p. ter ORA Krasa in Brkinov \n\nNedelja\, 10. maj 2026 ob 10.00\nSkrivnosti kamnitih napisov Rodika (Mitski park Rodik)\nNa interpretativnem sprehodu po Rodiku bomo skozi kamnite napise\, portone in nagrobnike odkrivali bogato kulturno dediščino prostora. V središču vasi si bomo ogledali odlitek flišnatega napisa z zapisom »Rundinkti«\, najstarejšim znanim zapisom imena Rodik. Na pokopališču bomo spoznali najstarejše nagrobnike\, vzidane v obzidje. Z oblikovalko kamna Špelo Šedivy bomo razkrili pomen tipografije v kamnu in tradicije pisanja v kamen ter spoznali pisavo kamnitih označevalcev Mitskega parka Rodik. Dogodek se zaključi z druženjem ob domačem jabolčnem soku in štrudlju na lokalni turistični kmetiji. Vodenje poteka v slovenskem in angleškem jeziku. \nZbirno mesto: Mitski park Rodik\, Rodik 6\, 6240 Kozina\n45° 37′ 34.52″ N\, 13° 58′ 45.38″ E\nPrijave in dodatne informacije: Vesna Vodnik na e-naslovu info@mitski-park.eu in tel. št. +386 70 569 882\nOrganizatorja: Špela Šedivy s.p. in ORA Krasa in Brkinov \n\nNedelja\, 10. maj 2026 ob 10.00\nPohod Naprej k naravi s pogledom skozi Kosovelova očala (Dutovlje)\nKraška gmajna je kot ena najstarejših kulturnih krajin v Evropi doživljala različne usode. Njena podoba danes je drugačna kot pred dobrimi 100 leti. Kako jo je takrat doživljal Srečko Kosovel\, poet Krasa\, ki je občuteno beležil vtise od kamna\, burje\, borov\, ptic brinjevk\, vinogradov?  Na krožni poti jih bomo tudi sami odkrivali\, pohod je primeren za vse starosti\, vodi ga Bogdan Macarol. Podali se bomo tudi do lokalnega vinarja. Vodenje bo potekalo v slovenskem in angleškem jeziku. \nZbirno mesto: Bunčetova domačija\, Dutovlje 65\, 6221 Dutovlje\n45° 45′ 21.9″ N\, 13° 49′ 55.1″ E\nPrijave in dodatne informacije: TIC Sežana na e-naslovu sezana@visitkras.info in tel. št. +386 5 731 01 28\nOrganizator: ORA Krasa in Brkinov v sodelovanju z Bogdanom Macarolom \n\nPetek\, 15. maj 2026 ob 16.00\nUstvarjalnica: Dotik kamna in krajine (Sežana)\nNa družinski ustvarjalnici bomo skupaj z otroki in starši vstopili v svet kamna – počasi\, z občutenjem in odprtimi zaznavami. S preprostimi vajami bomo prisluhnili prostoru\, se povezali z njegovimi subtilnimi plastmi ter dovolili\, da nas vodi izkušnja. Doživeto bomo izrazili skozi ustvarjanje\, vsak na svoj\, edinstven način. Kamen bomo spoznali tudi skozi dotik in delo. Pod vodstvom mentorjev se bomo uvedli v umetnost suhozidne gradnje ter skupaj soustvarjali in obnavljali suhi zid. Vodenje poteka v slovenskem in italijanskem jeziku. \nZbirno mesto: Poligon suhozidne gradnje v Živem muzeju Krasa\, Sežana\n45° 41′ 40.23″ N\, 13° 52′ 06.78″ E\nPrijave in dodatne informacije: Karin Lavin na e-naslovu karin.lavin.art@gmail.com ali tel. št. +386 41 823 927\nOrganizator: Zavod Anima Mundi \n\nSobota\, 16. maj 2026 ob 14.45\nMikrosvet Krasa med Globojnerjem\, Ferlugi in gradišči (Globojner\, Padriče\, Italija)\nPridružite se vodenem pohodu\, ki vabi na dvourno odkrivanje mikrofosilov v apnenčastih kamninah\, ki se nahajajo v območju od Padrič in Globojnerja do Ferlugov. Vabljeni na raziskovanje kamnin\, ki so jih nekoč uporabljali za gradnjo prazgodovinskih suhozidnih objektov. Med njimi so tudi utrdbe\, katerih ostanki naj bi se nahajali v bližini Globojnerja in so zabeleženi v Marchesettijevih risbah. Vodenje poteka v slovenskem in italijanskem jeziku. \nZbirno mesto: Park Globojner\, Padriče (TS) \n45° 39′ 16.04″ N\, 13° 49′ 34.57″ E\nDodatne informacije: Ingrid Urban\, e-naslov: ingrid.urban@unipd.it. Prijave niso potrebne.\nOrganizatorji: Mestni naravoslovni muzej v Trsu\, Geološka služba Avtonomne dežele Furlanije-Julijske krajine\, Inštitut za pomorske vede – Nacionalni raziskovalni svet (CNR) Trst\, Oddelek za geologijo Univerze v Padovi \n\nSobota\, 16. maj 2026 ob 15.00\nSpoznaj lipicanca (Kobilarna Lipica)\nVstopite v svet lipicancev in odkrijte vse\, kar ste si želeli vedeti o teh plemenitih konjih. Spoznali boste njihove značajske lastnosti ter razumeli\, zakaj lipicanci slovijo po svoji umirjenosti\, inteligenci in plemenitosti\, pa tudi kako razmišljajo\, se učijo in sodelujejo s človekom. Vodenje poteka v slovenskem in angleškem jeziku. \nZbirno mesto: Glavni vhod Kobilarne Lipica\n45° 40′ 01.14″ N\, 13° 52′ 57.58″ E\nPrijave in dodatne informacije: Kobilarna Lipica na e-naslovu events@lipica.org ali tel. št. +386 41 750 748\nOrganizator: Kobilarna Lipica \n\nNedelja\, 17. maj 2026 ob 13.30\nIzdelava manjše kamnite slike iz lokalnega apnenca (Lipa)\nNa dvorišču več kot tri stoletja stare hiše v vasi Lipa na Krasu\, tik ob poti na Trstelj\, vas pričakuje ustvarjalno nedeljsko popoldne. Vabljeni na borjač\, kjer bomo spoznavali preproste tehnike obdelave kamna. Vsak udeleženec bo ustvaril manjšo kamnito sliko iz lokalnega apnenca\, ki jo bo po koncu delavnice lahko odnesel domov. Delavnico vodi Petra Pika Može\, oblikovalka kamna. Vodenje poteka v slovenskem in italijanskem jeziku. Pred ali po delavnici lahko opravite še kratek vzpon na Trstelj in dan zaokrožite s čudovitim razgledom. \nZbirno mesto: Atelje Oštarini\, Lipa 21\, Kostanjevica na Krasu\n45° 50′ 58.00″ N\, 13° 42′ 14.30″ E\nPrijave in dodatne informacije: Petra Pika Moze na e-naslovu ostarinifamily.info@gmail.com in tel. št. +386 40 186 898\nOrganizator: Atelje Oštarini\, Krealipa Frančeškin Darijo s.p. \n\nNedelja\, 17. maj 2026 ob 15.00\nČutno doživetje Risnika (Učna pot Risnik)\nVabljeni na čutni pohod po Risniku\, kjer bomo skozi počasno hojo in zavestno prisotnost prebujali svoja čutila. V stiku s kamnom\, drevesi in kraško pokrajino bomo zaznavali teksture\, vonje in zvoke narave ter poglabljali povezavo s sabo. Ob zaključku sledi predstavitev novega sprejemnega centra Divaške jame in prijetna pogostitev. Vodenje poteka v slovenskem in italijanskem jeziku. \nZbirno mesto: Sprejemni center pri Divaški jami\nN 45° 40.513′ E 013° 57.035′\nPrijave in dodatne informacije: Domačija Harmonija\, Katarina Temkova\, na e-naslovu katarina.temkova@gmail.com ali tel. št. +386 31 339 296\nOrganizator: Domačija Harmonija
URL:https://www.robin.si/dogodek/kras-in-brkini-festival-kraska-gmajna/
END:VEVENT
BEGIN:VEVENT
DTSTART;TZID=Europe/Ljubljana:20260505T200000
DTEND;TZID=Europe/Ljubljana:20260609T180000
DTSTAMP:20260422T105713
CREATED:20260422T072256Z
LAST-MODIFIED:20260422T072259Z
UID:89447-1778011200-1781028000@www.robin.si
SUMMARY:NOVA GORICA\, dvorana frančiškanskega samostana na Kostanjevici - Glasba z vrtov sv Frančiška
DESCRIPTION:5.5.2026 ob 20.00: KONCERT NAGRAJENCA 5. MUSICA GORITIENSIS: Edward Walton (AUT\, VB) \n12.5.2026 ob 20.00: DEKLIŠKI PEVSKI ZBOR IGO GRUDEN: Kot vonj po cvetju \n19.5.2026 ob 20.00: EVA FAGANELJ\, flavta in EVA DOLINŠEK\, čembalo \n26.5.2026 ob 20.00: KONCERT NAGRAJENCA 55. TEKMOVANJA TEMSIG: Maj Špacapan \n2.6.2026 ob 20.00: EVELIN in VALERIJ GREBLO\, harfa \n9.6.2026 ob 18.00: MLADI GLASBENI BISERI\, nagrajenci primorskih glasbenih šol na glasbenih tekmovanjih 25/26
URL:https://www.robin.si/dogodek/nova-gorica-dvorana-franciskanskega-samostana-na-kostanjevici-glasba-z-vrtov-sv-franciska/
END:VEVENT
BEGIN:VEVENT
DTSTART;TZID=Europe/Ljubljana:20260509T090000
DTEND;TZID=Europe/Ljubljana:20260509T090000
DTSTAMP:20260422T105713
CREATED:20260318T102304Z
LAST-MODIFIED:20260318T102307Z
UID:87136-1778317200-1778317200@www.robin.si
SUMMARY:NOVA GORICA\, Športni park - Tečem\, da pomagam
DESCRIPTION:Medobčinsko društvo slepih in slabovidnih Nova Gorica\, Lions klubiSeverne Primorske\, Mestna občina Nova Gorica\, Center za krepitev zdravja Zdravstvenega doma Nova Gorica in Javni zavod za šport Nova Gorica letos že dvanajstič vabijo na mednarodno\, ndobrodelno\, netekmovalno in družabno prireditev Tečem\, da pomagam. Na novogoriškem stadionu bomo lanski rekord 5725 krogov premagovali 9. maja 2026 med 9. in 11. uro.
URL:https://www.robin.si/dogodek/nova-gorica-sportni-park-tecem-da-pomagam/
END:VEVENT
BEGIN:VEVENT
DTSTART;TZID=Europe/Ljubljana:20260509T090000
DTEND;TZID=Europe/Ljubljana:20260509T090000
DTSTAMP:20260422T105713
CREATED:20260420T120951Z
LAST-MODIFIED:20260420T120954Z
UID:89248-1778317200-1778317200@www.robin.si
SUMMARY:BUKOVICA\, kulturni dom - 20 let občine Renče Vogrsko: Pohod po konjeniški poti
DESCRIPTION:ob 9. uri start pred KD Bukovica\,v organizaciji Konjeniškega društva Soča
URL:https://www.robin.si/dogodek/bukovica-kulturni-dom-20-let-obcine-rence-vogrsko-pohod-po-konjeniski-poti/
END:VEVENT
BEGIN:VEVENT
DTSTART;TZID=Europe/Ljubljana:20260509T180000
DTEND;TZID=Europe/Ljubljana:20260509T180000
DTSTAMP:20260422T105713
CREATED:20260414T120223Z
LAST-MODIFIED:20260414T120225Z
UID:88928-1778349600-1778349600@www.robin.si
SUMMARY:KORITNICA (Baška Grapa) - Flančnki 2026
DESCRIPTION:9. maja 2026 bodo Flančnki spet pokali od glasnega rock’n’rolla in metala. Čaka nas pravi žur za vse\, ki radi stojimo pred odrom\, pijemo pivo in se pustimo raznesti dobrim rifom. \nVečer odprejo Chained Pistons s hitrim in udarnim thrash metalom\, za njimi pridejo težki Protype5 z groove\, death\, doom in sludge metal valjarjem. Potem na oder stopijo LastDayHere\, ki imajo za sabo špile po Evropi in Kanadi in vedno znajo naredit pravo vzdušje. Na oder prihajajo tudi Rodoljubac\, slovenska skupina\, ki s svojim edinstvenim zvokom\, karizmo in energijo vedno poskrbi za nepozabno vzdušje. \nPo nepredvideni odpovedi skupine Phil Campbell and the Bastard Sons smo želeli občinstvu ponuditi nekaj\, kar bo prineslo enako močno energijo\, iskrenost in pravo koncertno eksplozijo. \nAlo!Stari so ena najbolj energičnih slovenskih punk rock skupin\, ki s svojo mešanico skate punka\, melodičnega hardcorea in nalezljivega rock’n’roll naboja poskrbijo\, da publika ne stoji pri miru. Njihovi koncerti so glasni\, neposredni in polni energije – točno takšni\, kot si jih želimo tudi na našem odru. \nPrepričani smo\, da bodo s svojo odrsko prezenco in surovo energijo poskrbeli za večer\, ki si ga boste zapomnili. \nPo lanski nori ediciji z Niet se vračamo še močnejši.
URL:https://www.robin.si/dogodek/koritnica-baska-grapa-flancnki-2026/
END:VEVENT
END:VCALENDAR