BEGIN:VCALENDAR
VERSION:2.0
PRODID:-//Robin - ECPv6.15.20//NONSGML v1.0//EN
CALSCALE:GREGORIAN
METHOD:PUBLISH
X-ORIGINAL-URL:https://www.robin.si
X-WR-CALDESC:Dogodki za Robin
REFRESH-INTERVAL;VALUE=DURATION:PT1H
X-Robots-Tag:noindex
X-PUBLISHED-TTL:PT1H
BEGIN:VTIMEZONE
TZID:Europe/Ljubljana
BEGIN:DAYLIGHT
TZOFFSETFROM:+0100
TZOFFSETTO:+0200
TZNAME:CEST
DTSTART:20250330T010000
END:DAYLIGHT
BEGIN:STANDARD
TZOFFSETFROM:+0200
TZOFFSETTO:+0100
TZNAME:CET
DTSTART:20251026T010000
END:STANDARD
BEGIN:DAYLIGHT
TZOFFSETFROM:+0100
TZOFFSETTO:+0200
TZNAME:CEST
DTSTART:20260329T010000
END:DAYLIGHT
BEGIN:STANDARD
TZOFFSETFROM:+0200
TZOFFSETTO:+0100
TZNAME:CET
DTSTART:20261025T010000
END:STANDARD
BEGIN:DAYLIGHT
TZOFFSETFROM:+0100
TZOFFSETTO:+0200
TZNAME:CEST
DTSTART:20270328T010000
END:DAYLIGHT
BEGIN:STANDARD
TZOFFSETFROM:+0200
TZOFFSETTO:+0100
TZNAME:CET
DTSTART:20271031T010000
END:STANDARD
END:VTIMEZONE
BEGIN:VEVENT
DTSTART;TZID=Europe/Ljubljana:20260326T183000
DTEND;TZID=Europe/Ljubljana:20260509T183000
DTSTAMP:20260421T173124
CREATED:20260326T081922Z
LAST-MODIFIED:20260326T081925Z
UID:87702-1774549800-1778351400@www.robin.si
SUMMARY:KANAL OB SOČI\, Galerija Rika Debenjaka - Razstava Branislav Buh - Bato: Korenine življenja\, pregledna razstava
DESCRIPTION:
URL:https://www.robin.si/dogodek/kanal-ob-soci-galerija-rika-debenjaka-razstava-branislav-buh-bato-korenine-zivljenja-pregledna-razstava/
END:VEVENT
BEGIN:VEVENT
DTSTART;TZID=Europe/Ljubljana:20260327T190000
DTEND;TZID=Europe/Ljubljana:20260427T190000
DTSTAMP:20260421T173124
CREATED:20260327T062711Z
LAST-MODIFIED:20260327T062714Z
UID:87814-1774638000-1777316400@www.robin.si
SUMMARY:VIPAVA\, Dvorec Lanthieri - Slikarska razstava umetnice Lone Verlich
DESCRIPTION:Galerija (kapela) v Dvorcu Lanthieri\, Vipava\, 27.03.2026 ob 19:00\nRazstava bo prikaz slikarkinega ustvarjanja zadnjih 10 let. To je obdobje največjih stilnih in tehničnih preobratov v njenem ustvarjanju. V sklopu otvoritve bo avtorica na klavirju predstavila tudi svojo avtorsko glasbo skupaj z glasbenikom Ladom Jakšo. Na otvoritvi bo umetnico predstavila umetnostna kritičarka Polona Škodič. \nRazstava bo na ogled od 27.3. do 27.4.2026\, v času uradnih ur TICa Vipava.
URL:https://www.robin.si/dogodek/vipava-dvorec-lanthieri-slikarska-razstava-umetnice-lone-verlich/
END:VEVENT
BEGIN:VEVENT
DTSTART;TZID=Europe/Ljubljana:20260328T190000
DTEND;TZID=Europe/Ljubljana:20260510T190000
DTSTAMP:20260421T173124
CREATED:20260324T070954Z
LAST-MODIFIED:20260324T070956Z
UID:87567-1774724400-1778439600@www.robin.si
SUMMARY:LOKAVEC\, Klub Štala - Razstava: Enigma dell'Io - PINO BONANNO
DESCRIPTION:PINO BONANNO – slikar\, pesnik\, umetnostni kritik\, galerist\, kurator umetniških dogodkov\, živi v Grožnjanu (HR)\, kjer vodi »Gaia Gallery«. \nDiplomiral je iz političnih ved in umetnostne zgodovine. Poučeval je umetnostno zgodovino in zgodovino italijanske književnosti. Ustanovil in vodil je založbo FONÉMA. Je idejni snovalec in ustanovitelj umetniškega gibanja »Cromatismo Ermetico«. Bil je urednik revije za sodobno umetnost »Futuro« in ustanovitelj umetniške revije »KunstARTE«. \nKot umetnostni kritik je v Italiji in tujini organiziral številne umetniške razstave. Njegova dela se nahajajo v mednarodnih javnih in zasebnih zbirkah. \nKot kurator kulturnih dogodkov je vodil projekt »Via Nova« v Vestfaliji (D); pet edicij »Pentagonale« v Istri; številne mednarodne razstave z umetniki svetovnega slovesa (Italija\, Nemčija\, Avstrija\, Hrvaška\, Slovenija\, Nizozemska); 1. izdajo bienala umetnosti v Deruti (I) (2008); izdajo 2008 »In Chartis Mevaniae« v Bevagni (I); dve izdaji bienala v Bettoni (2010–2012) (I) ter prvo izdajo »ProArte« v Torgianu (I) itd. \nŠtevilne so njegove razstave v Italiji in tujini.
URL:https://www.robin.si/dogodek/lokavec-klub-stala-razstava-enigma-dellio-pino-bonanno/
END:VEVENT
BEGIN:VEVENT
DTSTART;TZID=Europe/Ljubljana:20260331T180000
DTEND;TZID=Europe/Ljubljana:20260430T180000
DTSTAMP:20260421T173124
CREATED:20260326T131146Z
LAST-MODIFIED:20260326T131321Z
UID:87770-1774980000-1777572000@www.robin.si
SUMMARY:NOVA GORICA\, Galerija Frnaža - Razstava TAKRAT Dareta Trobca
DESCRIPTION:Krajevna skupnost Nova Gorica vas prijazno vabi na odprtje razstave TAKRAT Daretа Trobca\, ki bo v torek\, 31. marca 2026\, ob 18. uri v galeriji FRNAŽA\, Erjavčeva ulica 4\, Nova Gorica. \nV kulturnem programu bodo sodelovali učenci Glasbene šole Nova Gorica: Filip Forca (solo kitara) in Krištof Bremec ter Davor Bratkovič (kitarski duo) pod vodstvom mentorice Eve Slokar Štiligoj. \nRazstava bo odprta do 30. aprila 2026.Urnik galerije: torek in četrtek\, od 8. do 15. ure
URL:https://www.robin.si/dogodek/nova-gorica-galerija-frnaza/
END:VEVENT
BEGIN:VEVENT
DTSTART;TZID=Europe/Ljubljana:20260402T160000
DTEND;TZID=Europe/Ljubljana:20260430T160000
DTSTAMP:20260421T173124
CREATED:20260402T051818Z
LAST-MODIFIED:20260402T051821Z
UID:88173-1775145600-1777564800@www.robin.si
SUMMARY:AJDOVŠČINA\, MC Hiša mladih - Cajt za mlade
DESCRIPTION:Ne veš\, kam po šoli? \nVsak četrtek se nam lahko pridružiš v Hiši mladih\, kjer združujemo učenje in zabavo. Med 14. in 16. uro nudimo brezplačno učno pomoč\, kjer lahko v sproščenem okolju opraviš domače naloge ali utrdiš znanje. \nPo učnem delu pa sledi čas za druženje – od 16. do 18. ure pripravljamo zabavne igre in ustvarjalne izzive in odpiramo prostor za sproščeno druženje. \nčetrtek\, 2. 4. ob 16.00: Turnir v namiznem tenisu s Karin Praček \nčetrtek\, 9. 4. ob 16.00: Pomladna ustvarjalnica: Drevo iz voska \nčetrtek\, 16. 4. ob 16.00: Peš do izvira Hublja \nčetrtek\, 23. 4. ob 16.00: Game time - Briškula \nčetrtek\, 30. 4. ob 16.00: Speci svojo JABOLČNO PITO
URL:https://www.robin.si/dogodek/ajdovscina-mc-hisa-mladih-cajt-za-mlade-2/
END:VEVENT
BEGIN:VEVENT
DTSTART;TZID=Europe/Ljubljana:20260407T080000
DTEND;TZID=Europe/Ljubljana:20260426T170000
DTSTAMP:20260421T173124
CREATED:20260402T051528Z
LAST-MODIFIED:20260407T071904Z
UID:88171-1775548800-1777222800@www.robin.si
SUMMARY:NOVA GORICA\, Bevkov trg - Festival zdravja
DESCRIPTION:FESTIVAL ZDRAVJA\nSkupaj za zdravje. Na strani znanosti.7.–26. april 2026\, Nova Gorica \n\nTOREK\, 7. april\nPROMOCIJA ZDRAVJA V CENTRU REVITALIZACIJE \n\n8.00 – WomanFIT (telovadba za ženske\, posebej za 40+)\n9.00 – VitaVIT (lahka telovadba za seniorje)\n11.00 – Telovadbe za mladino (zaprta skupina)\n17.00 – SummerVIT\n18.15 – Body & mind ToBeVIT\n19.30 – PowerYoga\n\n\nSREDA\, 8. april\nSEJEM ZDRAVJA NA BEVKOVEM TRGU (10.00–14.00) \n\nMeritve krvnega tlaka\, sladkorja\, holesterola\nPredstavitve organizacij s področja zdravja\nPreventivni programi\n\nProgram: \n\n10.00 odprtje\n10.15 predstava za otroke\n11.00 telovadba\n11.30 ples\n12.00 ritmični nastop\n12.30 vadba starejših\n13.00 ples\n\n\nČETRTEK\, 9. april\nFestival zdravja (uradni začetek) \n\nPETEK\, 10. april\nSPANEC KOT TEMELJ ZDRAVJA – predavanje (17.30) \n\nNEDELJA\, 12. april\nVIVICITTÀ – POŽIVIMO MESTIStart: 9.30 \n\nPONEDELJEK\, 13. april\n\n10.00 MenFIT\n16.00 Predavanje o odnosih (Peter Černe)\n18.00 BackVIT\n19.30 TNZ\n\n\nTOREK\, 14. april\n\n19.00 Zvočni objem (delavnica)\n19.00 Predavanje o starševstvu\n\n\nSREDA\, 15. april\n\nRazlične vadbe v Centru revitalizacije\n16.00 Delavnica sproščanja\n17.00 Delavnica za starše\n17.00 Prva pomoč za dojenčke\n17.00 Tai chi / Qi gong\n18.00 Alzheimer cafe\n\n\nČETRTEK\, 16. april\n\nDan odprtih vrat – zasvojenost\n18.00 Vadbe\n17.00 Hospic pogovor\n\n\nPETEK\, 17. april\n\nCelodnevne vadbe v Centru revitalizacije\n\n\nPONEDELJEK\, 20. april\n\n10.00 MenFIT\n16.00 Predavanje (Peter Černe)\n18.00 BackVIT\n19.30 TNZ\n\n\nTOREK\, 21. april\n\n17.00 Delavnica za otroke in starše\n\n\nSREDA\, 22. april\n\nRazlične vadbe + pogovor o umetnosti\n\n\nČETRTEK\, 23. april\n\n19.00 Predavanje o starševstvu\n\n\nPETEK\, 24. april\n\nVadbe + program v Centru revitalizacije\n\n\nNEDELJA\, 26. april\nPOHOD PRIJATELJSTVA – 2 MESTI\, 1 SRCEStart: 9.30
URL:https://www.robin.si/dogodek/nova-gorica-bevkov-trg-festival-zdravja/
END:VEVENT
BEGIN:VEVENT
DTSTART;TZID=Europe/Ljubljana:20260410T183000
DTEND;TZID=Europe/Ljubljana:20260430T183000
DTSTAMP:20260421T173124
CREATED:20260402T122639Z
LAST-MODIFIED:20260402T122642Z
UID:88230-1775845800-1777573800@www.robin.si
SUMMARY:GORICA\, Galerija ARS\, P. della Vittoria 25\, Gorica -  Razstava slik Nene Šutila - Neskončna vizija
DESCRIPTION:Do 30.4.2026 v času odprtja Katoliške knjigarne.
URL:https://www.robin.si/dogodek/gorica-galerija-ars-p-della-vittoria-25-gorica-razstava-slik-nene-sutila-neskoncna-vizija/
END:VEVENT
BEGIN:VEVENT
DTSTART;TZID=Europe/Ljubljana:20260411T173000
DTEND;TZID=Europe/Ljubljana:20260531T173000
DTSTAMP:20260421T173124
CREATED:20260326T064210Z
LAST-MODIFIED:20260326T064213Z
UID:87690-1775928600-1780248600@www.robin.si
SUMMARY:VIPOLŽE\, Vila Vipolže - Razstava: Consuelo Rodriguez
DESCRIPTION:Vljudno vabljeni na otvoritev razstave Controccanto umetnice Consuele Rodriguez – slikarke\, kiparke\, pesnice in umetnostne terapevtke\, ki bo v soboto\, 11. aprila 2026\, ob 17.30 v Vili Vipolže. \nPridružite se nam na večeru umetnosti in doživite njena izjemna dela. \n\nConsuelo Rodriguez (rojena v Trstu) je poučevala na Akademiji likovnih umetnosti Tiepolo v Vidmu ter delovala kot gostujoča predavateljica na Mednarodni akademiji umetnosti v Kolbermoorju (Nemčija). \nIzobraževala se je pri priznanih umetnikih\, kot so Hermann Nitsch\, Isabel Quintanilla\, Markus Lüpertz in Zhou Brothers. Njeno ustvarjanje obsega slikarstvo\, kiparstvo in dela velikih formatov. Svoja dela je predstavila na številnih razstavah doma in po svetu (New York\, Chicago\, Miami\, Šanghaj\, Berlin\, London\, Pariz\, Salzburg\, Istanbul). \nNjena umetniška dela so del javnih in zasebnih zbirk po vsej Evropi. \nZa svoje ustvarjanje je prejela številne nagrade za slikarstvo in poezijo. Njene pesniške zbirke so prevedene v več jezikov\, med drugim v angleščino\, slovenščino\, albanščino in romunščino. Med pomembnejšimi priznanji sta tudi Mednarodni literarni nagradi\, ki ju je prejela v Neaplju leta 2022 in 2024. \n\nRazstava bo na ogled do 31. 5. 2026.
URL:https://www.robin.si/dogodek/vipolze-vila-vipolze-razstava-consuelo-rodriguez/
END:VEVENT
BEGIN:VEVENT
DTSTART;TZID=Europe/Ljubljana:20260417T190000
DTEND;TZID=Europe/Ljubljana:20260522T190000
DTSTAMP:20260421T173124
CREATED:20260410T052144Z
LAST-MODIFIED:20260410T052147Z
UID:88662-1776452400-1779476400@www.robin.si
SUMMARY:NOVA GORICA\, Mestna galerija - Razstava ilustracij: TRIS
DESCRIPTION:Slovenska knjižna ilustracija predstavlja enega najvitalnejših segmentov sodobne vizualne umetnosti\, ki kljub svoji razširjenosti\, pogosto deluje izven prevladujočih umetniških tokov. Njena moč je prav v prepletu – med besedo in podobo\, med pripovedjo in interpretacijo\, med intimnim in univerzalnim. S svojo izrazno raznolikostjo ter vzgojno in estetsko funkcijo ostaja nepogrešljiv del kulturnega prostora. \nRazstava TRIS – ilustracije\, ki jo kuratorsko podpisuje Tatjana Pregl Kobe\, združuje dela treh izjemnih slovenskih ilustratork: Ane Maraž\, Tine Volarič in Ane Zavadlav\, ki izhajajo iz goriškega prostora. Vsaka izmed njih s samosvojo likovno govorico oblikuje prepoznaven umetniški svet\, skupaj pa ustvarjajo večplastno podobo sodobne slovenske ilustracije. \nAna Maraž razvija minimalistično\, ploskovito in barvno izčiščeno vizualno poetiko\, ki izhaja iz principov redukcije in stilizacije. Njene ilustracije prehajajo med realnim in abstraktnim ter z občuteno mero interpretacije odpirajo prostor domišljiji bralca. \nTina Volarič v svojih delih prepleta ilustracijo\, poezijo in simbolno govorico narave. Njena dela niso zgolj vizualne spremljave besedil\, temveč samostojni\, kontemplativni svetovi\, v katerih se zrcalijo tišina\, notranja stanja in povezanost človeka z okoljem. \nAna Zavadlav izstopa po širokem spektru likovnega izraza in tehnični dovršenosti. Njene ilustracije segajo od igrivih\, barvitih podob do subtilnih\, zadržanih črno-belih risb\, pri čemer vedno ohranjajo izrazito pripovedno moč in prefinjen občutek za\natmosfero. \nRazstava osvetljuje raznolikost pristopov\, ki zaznamujejo sodobno ilustracijo – od minimalističnih in konceptualnih rešitev do bogatih\, narativnih in čustveno nabitih podob. Hkrati potrjuje\, da ilustracija danes ni več zgolj spremljevalka besedila\, temveč avtonomna umetniška praksa\, ki suvereno vstopa v širši likovni prostor. Prikazuje tri povsem različne ustvarjalne poetike ter je hkrati poklon bogati tradiciji slovenske ilustracije in njenemu nadaljnjemu razvoju.
URL:https://www.robin.si/dogodek/nova-gorica-mestna-galerija-razstava-ilustracij-tris-2/
END:VEVENT
BEGIN:VEVENT
DTSTART;TZID=Europe/Ljubljana:20260420T070000
DTEND;TZID=Europe/Ljubljana:20260425T130000
DTSTAMP:20260421T173124
CREATED:20260421T052148Z
LAST-MODIFIED:20260421T052151Z
UID:89306-1776668400-1777122000@www.robin.si
SUMMARY:NOVA GORICA\, Knjižnica Franceta Bevka - Pomladni knjižnični bazar
DESCRIPTION:Ob svetovnem dnevu knjige in avtorskih pravic vas vabimo\, da pobrskate med knjigami\, filmi in glasbo\, ki iščejo nov dom. Dogodek bo pri velikem razstavnem prostoru v pritličju knjižnice.
URL:https://www.robin.si/dogodek/nova-gorica-knjiznica-franceta-bevka-pomladni-knjiznicni-bazar-2/
END:VEVENT
BEGIN:VEVENT
DTSTART;TZID=Europe/Ljubljana:20260420T070000
DTEND;TZID=Europe/Ljubljana:20260425T190000
DTSTAMP:20260421T173124
CREATED:20260402T124553Z
LAST-MODIFIED:20260402T124555Z
UID:88267-1776668400-1777143600@www.robin.si
SUMMARY:NOVA GORICA\, Knjižnica Franceta Bevka - Pomladni knjižnični bazar
DESCRIPTION:od 20. aprila 2026 do 25. aprila 2026\, pri velikem razstavnem prostoru v pritličju knjižniceOb svetovnem dnevu knjige in avtorskih pravic vas vabimo\, da pobrskate med knjigami\, filmi in glasbo\, ki iščejo nov dom.
URL:https://www.robin.si/dogodek/nova-gorica-knjiznica-franceta-bevka-pomladni-knjiznicni-bazar/
END:VEVENT
BEGIN:VEVENT
DTSTART;TZID=Europe/Ljubljana:20260422T180000
DTEND;TZID=Europe/Ljubljana:20260531T180000
DTSTAMP:20260421T173124
CREATED:20260416T095858Z
LAST-MODIFIED:20260416T095900Z
UID:89059-1776880800-1780250400@www.robin.si
SUMMARY:SEŽANA\, Kosovelov dom - Razstava: Zlata kraška nit
DESCRIPTION:Razstava Jane Pečečnik\, diplomirane oblikovalke vizualnih komunikacij je zasnovana kot pot v svet simbolov\, ki so nekoč spremljali dom\, odnose in življenjske prehode. Avtorica iz kraške dediščine in staroverskih vzorcev z vsebinsko\, simbolno in duhovno vrednostjo\, izpeljuje likovno-estetsko dovršene ter avtorsko močne in prefinjene Zlate obroče. V raznolikih unikatnih kosih se še vedno polnomočno udejanja globoka in večplastna povezanost človeka z naravo\, ki je tudi sicer Janino življenjsko in ustvarjalno vodilo. \nRazstava bo na ogled do konca maja 2026.
URL:https://www.robin.si/dogodek/sezana-kosovelov-dom-razstava-zlata-kraska-nit-2/
END:VEVENT
BEGIN:VEVENT
DTSTART;TZID=Europe/Ljubljana:20260423T100000
DTEND;TZID=Europe/Ljubljana:20260423T100000
DTSTAMP:20260421T173124
CREATED:20260420T072318Z
LAST-MODIFIED:20260420T072320Z
UID:89200-1776938400-1776938400@www.robin.si
SUMMARY:NOVA GORICA\, Knjigarna kavarna Maks - Se še spomnite Nugatina?
DESCRIPTION:Pogovor o okusih ob meji\, špeži v stari Gorici in legendarnem namazu iz Kobarida.\nV osemdesetih letih je življenje ob meji pisalo posebne zgodbe. Medtem ko smo po\nkavbojke\, kavo in Nutello hodili v Trst\, Čedad in staro Gorico\, se je na policah naših\ntrgovin pojavil prav poseben izdelek: Nugatino\, premium lešnikov namaz\, ki so ga\nizdelovali v Planiki v Kobaridu. \nVendar to ni bil le navaden izdelek – prihajal je v legendarnih keramičnih šalicah\, ki so\nše dolga leta po tem\, ko smo ga pojedli\, ostale v naših kuhinjskih omaricah. Nekateri\nso trdili\, da je po okusu celo prekašal italijanski original ...\nJe bil Nugatino le tolažilna nagrada za dni\, ko nismo šli čez mejo\, ali naš ponos\, ki je po okusu premagal Nutello? Kam so po uporabi romale vse te prazne šalice in kaj nam sporočajo danes? \nVabimo vas na sproščeno srečanje in pogovor\, kjer bomo ob kavi obujali spomine na nakupovalne navade tistega časa ter osvežili spomin na Nugatino.\nPosebej vabljeni vsi\, ki ste v obdobju 1985–1993 sami nakupovali hrano in se\nspomnite\, kako smo takrat izbirali med italijanskimi in domačimi izdelki. Vaši spomini bodo v izjemno pomoč pri raziskavi o naši lokalni dediščini.
URL:https://www.robin.si/dogodek/nova-gorica-knjigarna-kavarna-maks-se-se-spomnite-nugatina/
END:VEVENT
BEGIN:VEVENT
DTSTART;TZID=Europe/Ljubljana:20260423T170000
DTEND;TZID=Europe/Ljubljana:20260423T170000
DTSTAMP:20260421T173124
CREATED:20260403T052732Z
LAST-MODIFIED:20260403T052735Z
UID:88325-1776963600-1776963600@www.robin.si
SUMMARY:Grgarske Ravne\, Zeliščni center - KUHARSKA DELAVNICA: PALAČINKE (Klavdija Bizjak)
DESCRIPTION:
URL:https://www.robin.si/dogodek/grgarske-ravne-zeliscni-center-kuharska-delavnica-palacinke-klavdija-bizjak/
END:VEVENT
BEGIN:VEVENT
DTSTART;TZID=Europe/Ljubljana:20260423T170000
DTEND;TZID=Europe/Ljubljana:20260423T170000
DTSTAMP:20260421T173124
CREATED:20260410T052933Z
LAST-MODIFIED:20260410T052935Z
UID:88674-1776963600-1776963600@www.robin.si
SUMMARY:ŠEMPETER PRI GORICI\, krajevna knjižnica - Ustvarjalna delavnica za otroke
DESCRIPTION:Pravljično ustvarjalna delavnica  za otroke\, v organizaciji Krajevne knjižnice Šempeter in MDPM za Goriško
URL:https://www.robin.si/dogodek/sempeter-pri-gorici-krajevna-knjiznica-ustvarjalna-delavnica-za-otroke/
END:VEVENT
BEGIN:VEVENT
DTSTART;TZID=Europe/Ljubljana:20260423T170000
DTEND;TZID=Europe/Ljubljana:20260423T170000
DTSTAMP:20260421T173124
CREATED:20260420T120521Z
LAST-MODIFIED:20260420T120524Z
UID:89239-1776963600-1776963600@www.robin.si
SUMMARY:BUKOVICA\, kulturni dom - 20 let občine Renče Vogrsko: Slavnostna seja s podelitvijo občinskih priznanj
DESCRIPTION:SLAVNOSTNA SEJA OBČINES PODELITVIJO OBČINSKIH PRIZNANJ – občina praznuje 20 let obstojaob 17.00 v Dvorani Angela Mečnika v kulturnem domu v Bukovici(seja je odprta za javnost)
URL:https://www.robin.si/dogodek/bukovica-kulturni-dom-20-let-obcine-rence-vogrsko-slavnostna-seja-s-podelitvijo-obcinskih-priznanj/
END:VEVENT
BEGIN:VEVENT
DTSTART;TZID=Europe/Ljubljana:20260423T170000
DTEND;TZID=Europe/Ljubljana:20260423T170000
DTSTAMP:20260421T173124
CREATED:20260421T052624Z
LAST-MODIFIED:20260421T052626Z
UID:89316-1776963600-1776963600@www.robin.si
SUMMARY:ŠEMPETER\, krajevna knjižnica - Pravljična urica in ustvarjalnica
DESCRIPTION:Pravljična urica in ustvarjalnica s pravljičarko Nedo Mikuž. V sodelovanju z Medobčinskim društvom prijateljev mladine za Goriško.
URL:https://www.robin.si/dogodek/sempeter-krajevna-knjiznica-pravljicna-urica-in-ustvarjalnica/
END:VEVENT
BEGIN:VEVENT
DTSTART;TZID=Europe/Ljubljana:20260423T180000
DTEND;TZID=Europe/Ljubljana:20260423T180000
DTSTAMP:20260421T173124
CREATED:20260402T124450Z
LAST-MODIFIED:20260402T124452Z
UID:88265-1776967200-1776967200@www.robin.si
SUMMARY:NOVA GORICA\, Knjižnica Franceta Bevka - Domoznanski večer z Natašo Konc Lorenzutti
DESCRIPTION:Nataša Konc Lorenzutti: Vse je postalo plamen\, predstavitev knjige. Z avtorico se bo pogovarjala Zarika Snoj Verbovšek. Z dogodkom obeležujemo svetovni dan knjige in avtorskih pravic ter Noč knjige 2026\, hkrati pa z dogodkom začenjamo jubilejno 20. sezono Primorci beremo.
URL:https://www.robin.si/dogodek/nova-gorica-knjiznica-franceta-bevka-domoznanski-vecer-z-nataso-konc-lorenzutti/
END:VEVENT
BEGIN:VEVENT
DTSTART;TZID=Europe/Ljubljana:20260423T180000
DTEND;TZID=Europe/Ljubljana:20260423T180000
DTSTAMP:20260421T173124
CREATED:20260416T095717Z
LAST-MODIFIED:20260416T095719Z
UID:89055-1776967200-1776967200@www.robin.si
SUMMARY:NOVA GORICA\, Kulturni dom - Revija otroških in mladinskih pevskih zborov Goriške
DESCRIPTION:Javni sklad RS za kulturne dejavnosti\, Območna izpostava Nova Gorica v aprilu tradicionalno organizira\nRevijo otroških in mladinskih pevskih zborov Goriške. \nV novogoriškem kulturnem domu se bo na dveh koncertih predstavilo 15 zborov s 430 mladimi pevkami in pevci. Revijo bo strokovno spremljala večkrat nagrajena in priznana zborovodkinja Barbara Kovačič. Dela strokovnega spremljevalca na programih JSKD ne gre enačiti z delom žiranta\, saj strokovni spremljevalec zborom svetuje in jih vzpodbuja za nadaljnjo kakovostno umetniško rast. \nPetje v zboru pomaga mladih razvijati glasbene in govorne sposobnosti\, koncentracijo in spomin\, uči sodelovanje in prilagajanje skupini za skupno dobro ter daje občutek pripadnosti in povezanosti. Zborovodje in zborovodkinje mladim v zborih seznanjajo z zborovsko literaturo\, poezijo … z izvajanjem ljudskih pesmi pa se ohranja bogata kulturna dediščina slovenskega zborovstva. Zato JSKD spodbuja in spremlja množično zborovsko udejstvovanje\, vrednoti dosežke\, pripravlja izobraževalne programe za zborovodje in pevce ter omogoča strokovno spremljanje nastopov. \nNASTOPAJO: \nOPZ POŠ Kostanjevica na KrasuOPZ OŠ KanalOPZ OŠ ŠempasOPZ OŠ MirenMPZ OŠ DeskleMPZ OŠ ŠempasMPZ OŠ KanalMPZ OŠ Miren
URL:https://www.robin.si/dogodek/nova-gorica-kulturni-dom-revija-otroskih-in-mladinskih-pevskih-zborov-goriske-2/
END:VEVENT
BEGIN:VEVENT
DTSTART;TZID=Europe/Ljubljana:20260423T180000
DTEND;TZID=Europe/Ljubljana:20260423T180000
DTSTAMP:20260421T173124
CREATED:20260421T052437Z
LAST-MODIFIED:20260421T052439Z
UID:89312-1776967200-1776967200@www.robin.si
SUMMARY:BRANIK\, krajevna knjižnica - Bralni klub Branik
DESCRIPTION:Pogovarjali se bomo o knjigi Bedni Ljudje Fjodorja Mihajloviča Dostojevskega\, obeležili Noč knjige 2026 in se spomnili leta Srečka Kosovela ter prebrali nekaj njegove poezije. Vabilo si lahko ogledate v priponki.
URL:https://www.robin.si/dogodek/branik-krajevna-knjiznica-bralni-klub-branik/
END:VEVENT
BEGIN:VEVENT
DTSTART;TZID=Europe/Ljubljana:20260423T183000
DTEND;TZID=Europe/Ljubljana:20260423T183000
DTSTAMP:20260421T173124
CREATED:20260410T120040Z
LAST-MODIFIED:20260410T120042Z
UID:88761-1776969000-1776969000@www.robin.si
SUMMARY:PRVAČINA\, športna dvorana - Praznovanje 200 letnice šolstva v Prvačini
DESCRIPTION:Osnovna šola Dornberk skupaj s Podružnično šolo Prvačina in Krajevno skupnostjo Prvačina pripravlja slavnostno prireditev ob 200-letnici šolstva v Prvačini. Gre za visok jubilej\, s katerim se lahko ponaša le redek kraj in redek zavod v Sloveniji in mi smo ponosni\, da smo lahko del te skupnosti. Hvaležni smo za vse\, kar smo v preteklosti prejeli in veseli\, da lahko predajamo naprej.  Z dogodkom želimo povezati  generacije\, ki so šolo v Prvačini obiskovali v preteklosti in tistimi\, ki šolo obiskujejo danes. \nVabljeni torej na naše slavnostno medgeneracijsko druženje v četrtek\, 23. 4. 2026\, ob 18.30 v Športni dvorani Prvačina.
URL:https://www.robin.si/dogodek/prvacina-sportna-dvorana-praznovanje-200-letnice-solstva-v-prvacini/
END:VEVENT
BEGIN:VEVENT
DTSTART;TZID=Europe/Ljubljana:20260423T190000
DTEND;TZID=Europe/Ljubljana:20260423T190000
DTSTAMP:20260421T173124
CREATED:20260326T063734Z
LAST-MODIFIED:20260326T063736Z
UID:87682-1776970800-1776970800@www.robin.si
SUMMARY:VIPOLŽE\, Vila Vipolže - Besedni utrinki v Vili Vipolže
DESCRIPTION:LITERARNO GLASBENI VEČER MEF & NOVELE \nVabljeni na drugi večer cikla - Besedni utrinki v Vili Vipolže. \n\nMEF & NOVELE predstavljajo glasbeno - literarni večer s predstavitvijo knjige Pesmi letijo v nebo. \nPrav poseben večer pripravlja z Drago Mislej – Mef\, saj bo tokrat v ospredju knjiga\, ki jo je skupaj s prijatelji in sodelavci ustvaril skoraj brez njegove vednosti. \n400 strani besedil opremljenih z QR-kodami\, ki jih lahko poslušate kar med branjem. Po dosedanjih podatkih se knjiga trenutno uvršča med bolje prodajane naslove v knjigarnah Mladinska knjiga\, DZS\, Libris ter v spletni prodaji. \nNa koncert boste lahko ob zvokih Mefovih skladb doživeli zgodbe\, ki so nastale skozi leta\, in se potopili v svet\, kjer beseda in glasba nežno prepletata svoja čustva. \n\nNa koncerte bodo šli s popolno zasedbo: \n\nDrago Mislej Mef - kitara in vokal\nJaša Hedžet - bas in vokal\nGregor Brajkovič - bobni in vokal\nAljoša Mislej - kitara\, synth in razni zvoki\nMaj Špacapan - kitara in vokal\nMateo Rivierani - klaviature in vokal\n\n\nVečer bo intimna\, pristna izkušnja – glasba kot spremljava\, besede kot srce večera.
URL:https://www.robin.si/dogodek/vipolze-vila-vipolze-besedni-utrinki-v-vili-vipolze/
END:VEVENT
BEGIN:VEVENT
DTSTART;TZID=Europe/Ljubljana:20260423T200000
DTEND;TZID=Europe/Ljubljana:20260423T200000
DTSTAMP:20260421T173124
CREATED:20260320T133253Z
LAST-MODIFIED:20260320T133253Z
UID:87401-1776974400-1776974400@www.robin.si
SUMMARY:NOVA GORICA\, SNG - Predstava: Konec Epohe
DESCRIPTION:Milenijska drama
URL:https://www.robin.si/dogodek/nova-gorica-sng-predstava-konec-epohe-2/
END:VEVENT
END:VCALENDAR