BEGIN:VCALENDAR
VERSION:2.0
PRODID:-//Robin - ECPv6.15.20//NONSGML v1.0//EN
CALSCALE:GREGORIAN
METHOD:PUBLISH
X-WR-CALNAME:Robin
X-ORIGINAL-URL:https://www.robin.si
X-WR-CALDESC:Dogodki za Robin
REFRESH-INTERVAL;VALUE=DURATION:PT1H
X-Robots-Tag:noindex
X-PUBLISHED-TTL:PT1H
BEGIN:VTIMEZONE
TZID:Europe/Ljubljana
BEGIN:DAYLIGHT
TZOFFSETFROM:+0100
TZOFFSETTO:+0200
TZNAME:CEST
DTSTART:20250330T010000
END:DAYLIGHT
BEGIN:STANDARD
TZOFFSETFROM:+0200
TZOFFSETTO:+0100
TZNAME:CET
DTSTART:20251026T010000
END:STANDARD
BEGIN:DAYLIGHT
TZOFFSETFROM:+0100
TZOFFSETTO:+0200
TZNAME:CEST
DTSTART:20260329T010000
END:DAYLIGHT
BEGIN:STANDARD
TZOFFSETFROM:+0200
TZOFFSETTO:+0100
TZNAME:CET
DTSTART:20261025T010000
END:STANDARD
BEGIN:DAYLIGHT
TZOFFSETFROM:+0100
TZOFFSETTO:+0200
TZNAME:CEST
DTSTART:20270328T010000
END:DAYLIGHT
BEGIN:STANDARD
TZOFFSETFROM:+0200
TZOFFSETTO:+0100
TZNAME:CET
DTSTART:20271031T010000
END:STANDARD
END:VTIMEZONE
BEGIN:VEVENT
DTSTART;TZID=Europe/Ljubljana:20260206T190000
DTEND;TZID=Europe/Ljubljana:20260405T190000
DTSTAMP:20260421T155312
CREATED:20260326T064104Z
LAST-MODIFIED:20260326T064107Z
UID:87688-1770404400-1775415600@www.robin.si
SUMMARY:VIPOLŽE\, Vila Vipolže - Razstava: karim Azad
DESCRIPTION:ljudno vabljeni na ogled razstave umetnika Karima Azada v čudovitem ambientu Vile Vipolže. \nRazstava ponuja edinstven vpogled v umetnikov ustvarjalni svet\, kjer se prepletajo sodobni izrazi\, osebne zgodbe in močna vizualna govorica. Obiskovalci boste lahko doživeli dela\, ki nagovarjajo čustva\, spodbujajo razmislek ter ustvarjajo poseben dialog med umetnostjo in prostorom. \nPridružite se nam in preživite prijeten trenutek v družbi umetnosti v eni najlepših vil v Brdih. \nVeselimo se vašega obiska! \nRazstava bo na ogled do 5. aprila 2026.
URL:https://www.robin.si/dogodek/vipolze-vila-vipolze-razstava-karim-azad/
END:VEVENT
BEGIN:VEVENT
DTSTART;TZID=Europe/Ljubljana:20260306T190000
DTEND;TZID=Europe/Ljubljana:20260410T000000
DTSTAMP:20260421T155312
CREATED:20260225T074847Z
LAST-MODIFIED:20260225T074849Z
UID:85814-1772823600-1775779200@www.robin.si
SUMMARY:NOVA GORICA\, Mestna galerija - Razstava Nenehno gibanje\, slike
DESCRIPTION:Italijanska slikarka Ariana Ellero\, ki prihaja iz okolice Vidma\, se bo prvič predstavila v naši galeriji s ciklom najnovejših slik\, nastalih v zadnjem ustvarjalnem obdobju. Njeno likovno raziskovanje temelji na subtilnih barvnih kompozicijah\, v katerih se osredotoča na avtonomne likovne prvine – barvo\, svetlobo in obliko – s pomočjo katerih preizprašuje meje med podobo\, zaznavo in vizualno reprezentacijo. Umetnica s prepoznavno senzibilnostjo raziskuje odnos med nenehno spreminjajočimi vizualnimi prostori in emocijami ter s tem odpira in širi povsem nova asociativna polja. V njenih platnih se prelivajo občutja\, ki nagovarjajo gledalca na intuitivni ravni. Razstava prinaša vpogled v slikarkin razvoj in njeno tenkočutno vizijo sodobne umetnosti.
URL:https://www.robin.si/dogodek/nova-gorica-mestna-galerija-razstava-nenehno-gibanje-slike/
END:VEVENT
BEGIN:VEVENT
DTSTART;TZID=Europe/Ljubljana:20260319T180000
DTEND;TZID=Europe/Ljubljana:20260415T180000
DTSTAMP:20260421T155312
CREATED:20260302T080824Z
LAST-MODIFIED:20260302T080826Z
UID:86123-1773943200-1776276000@www.robin.si
SUMMARY:AJDOVŠČINA\, MC Hiša mladih - Fotografska razstava: Skriti kotički Ajdovščine
DESCRIPTION:Razstava predstavlja izbor fotografij osnovnošolcev in srednješolcev\, ki so skozi objektiv raziskovali Ajdovščino ter iskali njene skrite\, tihe in pogosto spregledane kotičke.\nMladi ustvarjalci so navdih našli v občutljivem pogledu Milana Klemenčiča\, slikarja\, fotografa in utemeljitelja slovenskega lutkarstva\, ki je pomemben del svojega ustvarjanja posvetil prav Ajdovščini. \nFotografije razkrivajo drobne podrobnosti\, sence\, ulice in zgodbe mesta ter nas vabijo\, da Ajdovščino pogledamo z novimi očmi. \nNa dogodku bomo predstavili sodelujoče mlade fotografe ter razglasili najboljše fotografije natečaja. \nVabljeni na otvoritev razstave\,19. 3. 2026 ob 18.00 v Galeriji Hiša mladih Ajdovščina. \nRazstava bo na ogled do 15. 4. 2026.
URL:https://www.robin.si/dogodek/ajdovscina-mc-hisa-mladih-fotografska-razstava-skriti-koticki-ajdovscine/
END:VEVENT
BEGIN:VEVENT
DTSTART;TZID=Europe/Ljubljana:20260320T190000
DTEND;TZID=Europe/Ljubljana:20260410T000000
DTSTAMP:20260421T155312
CREATED:20260316T125636Z
LAST-MODIFIED:20260316T125639Z
UID:86986-1774033200-1775779200@www.robin.si
SUMMARY:AJDOVŠČINA\, Lokarjeva galerija - Razstava: Jadranka Ferjančič\, Gregor Maver\, Andrej Perko
DESCRIPTION:
URL:https://www.robin.si/dogodek/ajdovscina-lokarjeva-galerija-razstava-jadranka-ferjancic-gregor-maver-andrej-perko/
END:VEVENT
BEGIN:VEVENT
DTSTART;TZID=Europe/Ljubljana:20260323T000000
DTEND;TZID=Europe/Ljubljana:20260412T000000
DTSTAMP:20260421T155312
CREATED:20260318T102410Z
LAST-MODIFIED:20260318T102413Z
UID:87138-1774224000-1775952000@www.robin.si
SUMMARY:GORICA\, kulturni dom - Razstava: Jože Cej RETROSPEKTIVA
DESCRIPTION:
URL:https://www.robin.si/dogodek/gorica-kulturni-dom-razstava-joze-cej-retrospektiva/
END:VEVENT
BEGIN:VEVENT
DTSTART;TZID=Europe/Ljubljana:20260325T180000
DTEND;TZID=Europe/Ljubljana:20260410T180000
DTSTAMP:20260421T155312
CREATED:20260318T150212Z
LAST-MODIFIED:20260318T150214Z
UID:87187-1774461600-1775844000@www.robin.si
SUMMARY:SEŽANA\, Kosovelov dom - Razstava: Oblika in slika 2026
DESCRIPTION:Razstava predstavlja pregled letnega študijskega procesa študentov programa Fotografije in programa Oblikovanje materialov (modula Kamen)\, ki v Sežani ne pridobiva le teoretičnega znanja\, temveč s svojimi rokami in očmi sooblikuje vizualno podobo naše regije. Študenti oblikovanja kamna nam bodo pokazali\, kako se trda kamnina pod dletom spremeni v nežno linijo (od skice do izdelka)\, študenti fotografije pa bodo skozi objektiv razkrili zgodbe\, ki jih v vsakdanjem hitenju pogosto spregledamo. \nRazstava bo na ogled do 10. aprila 2026.
URL:https://www.robin.si/dogodek/sezana-kosovelov-dom-razstava-oblika-in-slika-2026/
END:VEVENT
BEGIN:VEVENT
DTSTART;TZID=Europe/Ljubljana:20260326T000000
DTEND;TZID=Europe/Ljubljana:20260414T000000
DTSTAMP:20260421T155312
CREATED:20260320T084548Z
LAST-MODIFIED:20260320T084550Z
UID:87286-1774483200-1776124800@www.robin.si
SUMMARY:AJDOVŠČINA\, prostori Rdečega Križa - Tečaj nege bolnika na domu
DESCRIPTION:Oskrba na domu zagotavlja pomoč pri različnih vsakdanjih življenjskih dejavnostih. Vsak star človek se neizbežno srečuje s številnimi spremembami\, motnjami\, disfunkcijami\, ki jih prinese starost. Spremembe lahko potisnejo starega človeka iz stopnje samostojnosti v stopnjo delne ali popolne odvisnosti. Spremembe so biološke – fizične\, psihične in socialne. Vplivajo na sposobnost izvajanja temeljnih življenjskih aktivnosti\, kot so: kopanje\, osebna higiena\, oblačenje\, uporaba stranišča\, hranjenje\, preprečevanje padcev in še več. \nNe zatiskajte si oči\, ko vidite\, da vaš najbližji kaže opozorilne znake motene samooskrbe in lastne varnosti. Lepo vabljeni na brezplačni tečaj nege bolnika na domu\, ki ga bo vodila dipl. med. sestra Karin Krečič Štrancar. Obsegal bo 20 pedagoških ur. \nTečaj bo potekal predvidoma v dneh: 26. 3.\, 27. 3.\, 31. 3.\, 7. 4.\, 9. 4.\, 13. 4. in 14. 4. po 3 oziroma 2 pedagoški uri. Prijave zbiramo do 24. 3.. Tečaj bomo izvedli\, če bo dovolj prijavljenih. Za več informacij in prijave smo vam na voljo na telefonski številki 051 430 722 ali 05 366 4930 oziroma nam lahko pišete na ajdovscina.ozrk@ozrks.si .
URL:https://www.robin.si/dogodek/ajdovscina-prostori-rdecega-kriza-tecaj-nege-bolnika-na-domu/
END:VEVENT
BEGIN:VEVENT
DTSTART;TZID=Europe/Ljubljana:20260326T183000
DTEND;TZID=Europe/Ljubljana:20260509T183000
DTSTAMP:20260421T155312
CREATED:20260326T081922Z
LAST-MODIFIED:20260326T081925Z
UID:87702-1774549800-1778351400@www.robin.si
SUMMARY:KANAL OB SOČI\, Galerija Rika Debenjaka - Razstava Branislav Buh - Bato: Korenine življenja\, pregledna razstava
DESCRIPTION:
URL:https://www.robin.si/dogodek/kanal-ob-soci-galerija-rika-debenjaka-razstava-branislav-buh-bato-korenine-zivljenja-pregledna-razstava/
END:VEVENT
BEGIN:VEVENT
DTSTART;TZID=Europe/Ljubljana:20260327T190000
DTEND;TZID=Europe/Ljubljana:20260427T190000
DTSTAMP:20260421T155312
CREATED:20260327T062711Z
LAST-MODIFIED:20260327T062714Z
UID:87814-1774638000-1777316400@www.robin.si
SUMMARY:VIPAVA\, Dvorec Lanthieri - Slikarska razstava umetnice Lone Verlich
DESCRIPTION:Galerija (kapela) v Dvorcu Lanthieri\, Vipava\, 27.03.2026 ob 19:00\nRazstava bo prikaz slikarkinega ustvarjanja zadnjih 10 let. To je obdobje največjih stilnih in tehničnih preobratov v njenem ustvarjanju. V sklopu otvoritve bo avtorica na klavirju predstavila tudi svojo avtorsko glasbo skupaj z glasbenikom Ladom Jakšo. Na otvoritvi bo umetnico predstavila umetnostna kritičarka Polona Škodič. \nRazstava bo na ogled od 27.3. do 27.4.2026\, v času uradnih ur TICa Vipava.
URL:https://www.robin.si/dogodek/vipava-dvorec-lanthieri-slikarska-razstava-umetnice-lone-verlich/
END:VEVENT
BEGIN:VEVENT
DTSTART;TZID=Europe/Ljubljana:20260328T190000
DTEND;TZID=Europe/Ljubljana:20260510T190000
DTSTAMP:20260421T155312
CREATED:20260324T070954Z
LAST-MODIFIED:20260324T070956Z
UID:87567-1774724400-1778439600@www.robin.si
SUMMARY:LOKAVEC\, Klub Štala - Razstava: Enigma dell'Io - PINO BONANNO
DESCRIPTION:PINO BONANNO – slikar\, pesnik\, umetnostni kritik\, galerist\, kurator umetniških dogodkov\, živi v Grožnjanu (HR)\, kjer vodi »Gaia Gallery«. \nDiplomiral je iz političnih ved in umetnostne zgodovine. Poučeval je umetnostno zgodovino in zgodovino italijanske književnosti. Ustanovil in vodil je založbo FONÉMA. Je idejni snovalec in ustanovitelj umetniškega gibanja »Cromatismo Ermetico«. Bil je urednik revije za sodobno umetnost »Futuro« in ustanovitelj umetniške revije »KunstARTE«. \nKot umetnostni kritik je v Italiji in tujini organiziral številne umetniške razstave. Njegova dela se nahajajo v mednarodnih javnih in zasebnih zbirkah. \nKot kurator kulturnih dogodkov je vodil projekt »Via Nova« v Vestfaliji (D); pet edicij »Pentagonale« v Istri; številne mednarodne razstave z umetniki svetovnega slovesa (Italija\, Nemčija\, Avstrija\, Hrvaška\, Slovenija\, Nizozemska); 1. izdajo bienala umetnosti v Deruti (I) (2008); izdajo 2008 »In Chartis Mevaniae« v Bevagni (I); dve izdaji bienala v Bettoni (2010–2012) (I) ter prvo izdajo »ProArte« v Torgianu (I) itd. \nŠtevilne so njegove razstave v Italiji in tujini.
URL:https://www.robin.si/dogodek/lokavec-klub-stala-razstava-enigma-dellio-pino-bonanno/
END:VEVENT
BEGIN:VEVENT
DTSTART;TZID=Europe/Ljubljana:20260331T180000
DTEND;TZID=Europe/Ljubljana:20260430T180000
DTSTAMP:20260421T155312
CREATED:20260326T131146Z
LAST-MODIFIED:20260326T131321Z
UID:87770-1774980000-1777572000@www.robin.si
SUMMARY:NOVA GORICA\, Galerija Frnaža - Razstava TAKRAT Dareta Trobca
DESCRIPTION:Krajevna skupnost Nova Gorica vas prijazno vabi na odprtje razstave TAKRAT Daretа Trobca\, ki bo v torek\, 31. marca 2026\, ob 18. uri v galeriji FRNAŽA\, Erjavčeva ulica 4\, Nova Gorica. \nV kulturnem programu bodo sodelovali učenci Glasbene šole Nova Gorica: Filip Forca (solo kitara) in Krištof Bremec ter Davor Bratkovič (kitarski duo) pod vodstvom mentorice Eve Slokar Štiligoj. \nRazstava bo odprta do 30. aprila 2026.Urnik galerije: torek in četrtek\, od 8. do 15. ure
URL:https://www.robin.si/dogodek/nova-gorica-galerija-frnaza/
END:VEVENT
BEGIN:VEVENT
DTSTART;TZID=Europe/Ljubljana:20260401T100000
DTEND;TZID=Europe/Ljubljana:20260401T100000
DTSTAMP:20260421T155312
CREATED:20260327T101916Z
LAST-MODIFIED:20260327T101918Z
UID:87894-1775037600-1775037600@www.robin.si
SUMMARY:BOVEC\, kulturni dom - Predavanje: Vrtnarjenje v visokih gredah
DESCRIPTION:
URL:https://www.robin.si/dogodek/bovec-kulturni-dom-predavanje-vrtnarjenje-v-visokih-gredah/
END:VEVENT
BEGIN:VEVENT
DTSTART;TZID=Europe/Ljubljana:20260401T160000
DTEND;TZID=Europe/Ljubljana:20260401T160000
DTSTAMP:20260421T155312
CREATED:20260327T061650Z
LAST-MODIFIED:20260327T061714Z
UID:87802-1775059200-1775059200@www.robin.si
SUMMARY:NOVA GORICA\, Kavarna EPIC - Srečanja s preteklostjo: Pogovor o razstavi\, kjer oživijo zgodbe naših prednikov
DESCRIPTION:Vabimo vas\, da z nami delite spomine\, izkušnje in drobce preteklosti\, ki jih nosite v sebi. Vsaka zgodba je dragocen del skupne dediščine\, ki nas povezuje in ohranja žive pripovedi za prihodnje generacije. \nPridružite se nam v sredo\, 1. 4.\, ob 16.00 v kavarni EPICentra. \n 
URL:https://www.robin.si/dogodek/nova-gorica-kavarna-epic-srecanja-s-preteklostjo-pogovor-o-razstavi-kjer-ozivijo-zgodbe-nasih-prednikov/
END:VEVENT
BEGIN:VEVENT
DTSTART;TZID=Europe/Ljubljana:20260401T170000
DTEND;TZID=Europe/Ljubljana:20260401T170000
DTSTAMP:20260421T155312
CREATED:20260330T074209Z
LAST-MODIFIED:20260330T074211Z
UID:87976-1775062800-1775062800@www.robin.si
SUMMARY:DESKLE\, kulturni dom - Festival pesmi in plesa
DESCRIPTION:Nastopali bodo: \nVrtec DobrovoVrtec PodbrdoVrtec Nova GoricaVrtec BovecVrtec KanalVrtec Deskle
URL:https://www.robin.si/dogodek/deskle-kulturni-dom-festival-pesmi-in-plesa-2/
END:VEVENT
BEGIN:VEVENT
DTSTART;TZID=Europe/Ljubljana:20260401T180000
DTEND;TZID=Europe/Ljubljana:20260401T180000
DTSTAMP:20260421T155312
CREATED:20260324T070448Z
LAST-MODIFIED:20260324T070450Z
UID:87560-1775066400-1775066400@www.robin.si
SUMMARY:NOVA GORICA\, Gimnazija Nova Gorica - Dobrodelna prireditev: Podarimo vam pesem
DESCRIPTION:Tudi letos\, 1. 4.\, ob 18.00 Gimnazija Nova Gorica v sodelovanju s Kulturni dom Nova Gorica organizira dobrodelno prireditev Podarimo vam pesem. \nNa njej se s pisano paleto plesnih in glasbenih zvrsti od klasike do popa in rocka predstavijo dijaki\, ki dosegajo pomembne uspehe na umetniškem področju\, med goste pa vstopajo nekdanji dijaki z lovoriko v umetnosti sami. \nZbrana sredstva bomo namenili dijakom iz socialno šibkejših družin. \nVstopnice lahko kupite na blagajni Kulturni dom Nova Gorica ob delavnikih: \nponedeljek\, sreda\, četrtek \nod 10.00—13.00 in \nod 14.00—17.00 ter \nuro pred pričetkom prireditev \ntorek in petek \nod 14.00—20.30 ter \nuro pred pričetkom prireditev
URL:https://www.robin.si/dogodek/nova-gorica-gimnazija-nova-gorica-dobrodelna-prireditev-podarimo-vam-pesem/
END:VEVENT
BEGIN:VEVENT
DTSTART;TZID=Europe/Ljubljana:20260401T180000
DTEND;TZID=Europe/Ljubljana:20260401T180000
DTSTAMP:20260421T155312
CREATED:20260327T101231Z
LAST-MODIFIED:20260327T101234Z
UID:87886-1775066400-1775066400@www.robin.si
SUMMARY:BILJE\, krajevna knjižnica - Pravljica za otroke
DESCRIPTION:Pripoveduje Jana Movja.
URL:https://www.robin.si/dogodek/bilje-krajevna-knjiznica-pravljica-za-otroke-3/
END:VEVENT
BEGIN:VEVENT
DTSTART;TZID=Europe/Ljubljana:20260401T190000
DTEND;TZID=Europe/Ljubljana:20260401T190000
DTSTAMP:20260421T155312
CREATED:20260324T130458Z
LAST-MODIFIED:20260324T130500Z
UID:87590-1775070000-1775070000@www.robin.si
SUMMARY:AJDOVŠČINA\, Rustjeva hiša kruha - Okusi pozabljenega: večer starih primorskih sort vinske trte
DESCRIPTION:V toplem in domačem vzdušju Rustjeve hiše kruha vas vabimo na poseben večer\, kjer bomo odkrivali zgodbe skoraj pozabljenih primorskih vinskih sort\, nekaj pa jih bomo tudi pokusili! \nSte vedeli\, da nekatere stare sorte vinske trte danes živijo le še v skrbno varovanih vinogradih Kmetijsko gozdarskega zavoda Nova Gorica? Prav te dragocene »skrite zaklade« bomo skupaj spoznali – predvsem tiste iz Vipavske doline\, ki v sebi nosijo edinstven okus preteklosti. \nDogodek bo preplet zanimivih zgodb in sproščenega pogovora. Govorili bomo o tem\, zakaj je pomembno\, da stare sorte ohranjamo\, kako so nekoč zaznamovale naš prostor ter kakšne priložnosti ponujajo danes. Dotaknili se bomo tudi dediščine\, ki jo jezapustil Matija Vertovec s svojo znamenito Vinoreja. \nVečer bo priložnost za vse\, ki radi raziskujete\, odkrivate in prisluhnete zanimivim zgodbam iz naše vinske dediščine. Nekaj od predstavljenih sort bomo lahko tudi okušali. Morda prav skupaj obudimo še kakšno zgodbo ali sorto\, ki čaka\, da jo znova odkrijemo. \nGovorki: \nAndreja Škvarč (KGZS – Zavod Nova Gorica\, Selekcijsko trsničarsko središče Vrhpolje)\nBarbi V. Močivnik (urednica\, sommelier II. stopnje\, degustatorka in mednarodna ocenjevalka vin) \nVabljeni vsi ljubitelji vina\, dediščine in radovedni raziskovalci okusov!
URL:https://www.robin.si/dogodek/ajdovscina-rustjeva-hisa-kruha-okusi-pozabljenega-vecer-starih-primorskih-sort-vinske-trte/
END:VEVENT
BEGIN:VEVENT
DTSTART;TZID=Europe/Ljubljana:20260401T190000
DTEND;TZID=Europe/Ljubljana:20260401T190000
DTSTAMP:20260421T155312
CREATED:20260326T062936Z
LAST-MODIFIED:20260326T062939Z
UID:87667-1775070000-1775070000@www.robin.si
SUMMARY:AJDOVŠČINA\, MC Hiša mladih - Zvočna kopel
DESCRIPTION:Gal Furlan.
URL:https://www.robin.si/dogodek/ajdovscina-mc-hisa-mladih-zvocna-kopel-2/
END:VEVENT
BEGIN:VEVENT
DTSTART;TZID=Europe/Ljubljana:20260401T190000
DTEND;TZID=Europe/Ljubljana:20260401T190000
DTSTAMP:20260421T155312
CREATED:20260330T074321Z
LAST-MODIFIED:20260330T074324Z
UID:87978-1775070000-1775070000@www.robin.si
SUMMARY:KANAL\, športna dvorana - Odbojkarska tekma OK Alpacem Kanal : OK Krka
DESCRIPTION:Vabljeni na ogled tretje tekme četrfinala Sportklub odbojkarske lige med domačim OK Alpacem Kanal in OK Krka.
URL:https://www.robin.si/dogodek/kanal-sportna-dvorana-odbojkarska-tekma-ok-alpacem-kanal-ok-krka-2/
END:VEVENT
END:VCALENDAR