BEGIN:VCALENDAR
VERSION:2.0
PRODID:-//Robin - ECPv6.15.20//NONSGML v1.0//EN
CALSCALE:GREGORIAN
METHOD:PUBLISH
X-ORIGINAL-URL:https://www.robin.si
X-WR-CALDESC:Dogodki za Robin
REFRESH-INTERVAL;VALUE=DURATION:PT1H
X-Robots-Tag:noindex
X-PUBLISHED-TTL:PT1H
BEGIN:VTIMEZONE
TZID:Europe/Ljubljana
BEGIN:DAYLIGHT
TZOFFSETFROM:+0100
TZOFFSETTO:+0200
TZNAME:CEST
DTSTART:20250330T010000
END:DAYLIGHT
BEGIN:STANDARD
TZOFFSETFROM:+0200
TZOFFSETTO:+0100
TZNAME:CET
DTSTART:20251026T010000
END:STANDARD
BEGIN:DAYLIGHT
TZOFFSETFROM:+0100
TZOFFSETTO:+0200
TZNAME:CEST
DTSTART:20260329T010000
END:DAYLIGHT
BEGIN:STANDARD
TZOFFSETFROM:+0200
TZOFFSETTO:+0100
TZNAME:CET
DTSTART:20261025T010000
END:STANDARD
BEGIN:DAYLIGHT
TZOFFSETFROM:+0100
TZOFFSETTO:+0200
TZNAME:CEST
DTSTART:20270328T010000
END:DAYLIGHT
BEGIN:STANDARD
TZOFFSETFROM:+0200
TZOFFSETTO:+0100
TZNAME:CET
DTSTART:20271031T010000
END:STANDARD
END:VTIMEZONE
BEGIN:VEVENT
DTSTART;TZID=Europe/Ljubljana:20260206T190000
DTEND;TZID=Europe/Ljubljana:20260405T190000
DTSTAMP:20260421T155421
CREATED:20260326T064104Z
LAST-MODIFIED:20260326T064107Z
UID:87688-1770404400-1775415600@www.robin.si
SUMMARY:VIPOLŽE\, Vila Vipolže - Razstava: karim Azad
DESCRIPTION:ljudno vabljeni na ogled razstave umetnika Karima Azada v čudovitem ambientu Vile Vipolže. \nRazstava ponuja edinstven vpogled v umetnikov ustvarjalni svet\, kjer se prepletajo sodobni izrazi\, osebne zgodbe in močna vizualna govorica. Obiskovalci boste lahko doživeli dela\, ki nagovarjajo čustva\, spodbujajo razmislek ter ustvarjajo poseben dialog med umetnostjo in prostorom. \nPridružite se nam in preživite prijeten trenutek v družbi umetnosti v eni najlepših vil v Brdih. \nVeselimo se vašega obiska! \nRazstava bo na ogled do 5. aprila 2026.
URL:https://www.robin.si/dogodek/vipolze-vila-vipolze-razstava-karim-azad/
END:VEVENT
BEGIN:VEVENT
DTSTART;TZID=Europe/Ljubljana:20260227T190000
DTEND;TZID=Europe/Ljubljana:20260327T190000
DTSTAMP:20260421T155421
CREATED:20260225T081719Z
LAST-MODIFIED:20260225T081721Z
UID:85827-1772218800-1774638000@www.robin.si
SUMMARY:NOVA GORICA\, Galerija GONG - Razstava: JULKA: Kaj je v imenu?
DESCRIPTION:Avtorja sta Valeria Cozzarini in Atej Tutta. Razstava bo na ogled do 27. marca 2026. \nRazstava JULKA: Kaj je v imenu? izhaja iz osrednjih tem animiranega filma Julka Valerie Cozzarini in črtice Metulj na obešalniku Borisa Pahorja\, po kateri je film nastal\, in jih razvije v širšem kontekstu. V ospredje postavi materni jezik\, nasilje nad manjšinami in zgodovino fašizma na njegovi vzhodni meji. Skozi niz kontrapunktično zasnovanih intervjujev z zgodovinarko Marto Verginella\, filozofom in sociologom Mirtom Komelom\, pisateljem Marcom Balzanom in pisateljico\, novinarko in soavtorico Pahorjeve biografije Cristino Battocletti odpira prostor za različne interpretacije in razmisleke\, ki segajo onkraj konkretne zgodbe ter se dotikajo aktualnih družbenih vprašanj.
URL:https://www.robin.si/dogodek/nova-gorica-galerija-gong-razstava-julka-kaj-je-v-imenu/
END:VEVENT
BEGIN:VEVENT
DTSTART;TZID=Europe/Ljubljana:20260301T160000
DTEND;TZID=Europe/Ljubljana:20260331T193000
DTSTAMP:20260421T155421
CREATED:20260303T120423Z
LAST-MODIFIED:20260303T120427Z
UID:86226-1772380800-1774985400@www.robin.si
SUMMARY:TOLMIN\, Kinogledališče - MAREC 2026
DESCRIPTION:1 NED16.00 TOM&JERRY: ČUDEŽNI KOMPAS\, animiran\, sinhroniziran\, 7+18.00 OHCET\, komedija \n3 TOR16.30 SRAKICA IN SOVA\, Šentjakobsko gledališče Ljubljana\, gledališka predstava (Mali AB in izven)18.00 \n4 SRE20.00 EXODUS 1945: NAŠA KRI\, zgodovinska drama \n5 ČET17.00 GOAT: OKUS ZMAGE\, animiran\, sinhroniziran\, 7+19.00 SENTIMENTALNA VREDNOST\, drama \n6 PET10.00 ZA ČISTE VODE: ODVRZI NAVADO\, NE ODPADKA\, prireditev\, razstava18.00 OHCET\, komedija20.00 28 LET POZNEJE: KOSTNI TEMPELJ\, grozljivka \n7 SOB17.00 SKOKCI\, animiran\, sinhroniziran\, 7+19.00 NUREMBERG\, psihološki triler \n8 NED18.00 MANCA ŠPIK: 20 NAJLEPŠIH ZA 20 LET\, koncert \n10 TOR19.00 NOVI SOŠOLCI\, dokumentarni\, pogovor po filmu (Filmski AB in izven\, kino po šoli) \n11 SRE20.00 TRIGLAV: POT ODREŠITVE\, dokumentarni \n12 ČET17.30 LUČKA\, mladinski\, 10+19.30 NEHVALEŽNA BITJA\, drama \n13 PET18.00 FANTASY\, drama20.00 VEČER GORNIŠKEGA FILMA\, izbor s Festivala gorniškega filma 1. del \n14 SOB16.30 EXODUS 1945: NAŠA KRI\, zgodovinska drama18.00 OHCET\, komedija20.00 KRIK 7\, grozljivka \n15 NED18.00 PENZIČI\, stand-up večer \n18 SRE16.30 OBČNI ZBOR DRUŠTVA ZA ZDRAVE DOJKE\, s predstavitvijo Psihološkega priročnika za krepitev duševnega zdravja \n19 ČET17.00 SKOKCI\, animiran\, sinhroniziran\, 7+19.00 EPIC: ELVIS PRESLEY NA KONCERTU\, dokumentarni \n20 PET15.30 MALI ALAN\, animiran\, sinhroniziran\, 7+17.30 VIHARNI VRH\, romantična drama20.00 VEČER GORNIŠKEGA FILMA\, izbor s Festivala gorniškega filma 2. del \n21 SOB17.00 OBJEM SENCE\, plesna predstava KreArt19.00 \n22 NED18.00 FOLKLORNO POPOTOVANJE PO SEVERNI PRIMORSKI\, revija folklornih skupin\, ljudskih pevcev in godcev \n24 TOR19.00 OSKARJEV IZBRANEC\, film še ni izbran (filmski AB Desetka in izven) \n27 PET18.00 ZLATOROG\, baletna predstava Glasbene šole Tolmin \n28 SOB17.00 TOM&JERRY: ČUDEŽNI KOMPAS\, animiran\, sinhroniziran\, 7+19.00 AVTOCESTA ZLOČINA\, kriminalni triler \n29 NED16.00 GOAT: OKUS ZMAGE\, animiran\, sinhroniziran\, 7+18.00 VELIČASTNI MARTY\, zgodovinska športna drama \n30 PON9.30 DREŽNIŠKA KOZA IN NJENI LJUDJE\, dokumentarni (Center dnevnih aktivnosti Naša hiša) vstop prost za starejše od 65 let \n31 TOR19.30 TRIAKONTA\, Jazz Punt Big Band in Boštjan Gombač\, koncert (Glasbeni AB in izven)
URL:https://www.robin.si/dogodek/tolmin-kinogledalisce-marec-2026/
END:VEVENT
BEGIN:VEVENT
DTSTART;TZID=Europe/Ljubljana:20260303T070000
DTEND;TZID=Europe/Ljubljana:20260331T220000
DTSTAMP:20260421T155421
CREATED:20260304T092454Z
LAST-MODIFIED:20260304T092457Z
UID:86296-1772521200-1774994400@www.robin.si
SUMMARY:NOVA GORICA\, Knjižnica Franceta Bevka - Dogodki v MARCU 2026
DESCRIPTION:Otroške dejavnosti\nPravljične urice\ntorek\, 3.\, 10.\, 17.\, 24. in 31. marec 2026 ob 16.30 in 17. uri v pravljični sobiZa otroke od dopolnjenega 4. leta starosti. Obvezne predhodne prijave na tel. št. 05/33 09 125 ali na Oddelku za mlade. \nLutkovna predstava\npetek\, 20. marec 2026\, ob 17. uri v prireditvenem prostoruFrane Milčinski: Zvezdica Zaspanka\, lutkovna predstava v izvedbi dramske skupine vzgojiteljic Vrtca Nova Gorica. \nPredstavitev slikanice\nponedeljek\, 30. marec 2026\, ob 17. uri v prireditvenem prostoruTanja Badalič: Srčece: muc s pristriženim ušeskom\, predstavitev slikanice. V sodelovanju z Društvom za pomoč živalim Repek. \nSrečanja s Tačkami pomagačkami\nPrijava je obvezna. Prijavite se lahko na tel. št. 05/33 09 125 ali na Oddelku za mlade. \nOtroška uganka meseca marca\n\nRadovedni ponedeljek: Korak k sebi\nponedeljek\, 9. marec 2026\, ob 18. uri v prireditvenem prostoru \nNadja Ebner: Kako pokopati mamo\, ki je še živa?\, predstavitev knjige.Z avtorico se bo pogovarjala njena hči. \n\nLiterarni četrtek z Miho Šaleharjem\nčetrtek\, 12. marec 2026\, ob 18. uri v prireditvenem prostoru \nMiha Šalehar: Krasni novi spet\, predstavitev knjige.Z avtorjem se bo pogovarjala Tina Podgornik. \n\nGregorjevo 2026\npetek\, 13. marec 2026\, ob 18.30 v atriju knjižnice \nSpuščanje Gregorčkov v bazenčkih v atriju Goriške knjižnice.V sodelovanju z Mestno občino Nova Gorica\, Krajevno skupnostjo Nova Gorica\, združenjem Goričanke (TD Nova Gorica) in Vrtcem Nova Gorica. \n\nVozičkanje\ntorek\, 17. marec 2026\, ob 10. uri v pravljični sobi \nPodporna skupina za mamice z dojenčki in malčki.Srečanja vodi mag. Jana Kruh iz Mladinskega centra Nova Gorica v sodelovanju z gostujočimi strokovnjaki in Goriško knjižnico. \n\nV notranjosti so pokrajine od daleč\nsreda\, 18. marec 2026\, ob 17. uri v prireditvenem prostoru \nPogovor s pesnikom Markom Matičetovim in pesnico Marušo Mugerli Lavrenčič o pesniških zbirkah V notranjosti so pokrajine (Hiša poezije\, 2025) in Od daleč (Hiša poezije\, 2025).Vodi Magda Vremec Ragusi.Z dogodkom obeležujemo svetovni dan poezije in obletnico rojstva Srečka Kosovela. \n\nDomoznanski večer\nponedeljek\, 23. marec 2026\, ob 17.30 v prireditvenem prostoru \nDogodek v okviru materinskega dneva s Kulturnim društvom Sanje.Gost večera: Feri Lainšček.Pogovor bo vodila Tanja Tuma. \n\nTematska srečanja Na vrhu stopnic\nsreda\, 25. marec 2026\, ob 17. uri v avdio-video sobi \nNa prvem letošnjem srečanju se bomo pogovarjali o staroverstvu.Gostja: Daša Medvešček\, vnukinja in skrbnica zapuščine zbiralca ljudskega izročila Pavla Medveščka – Klančarja. \n\nPogovori o vrtu\npetek\, 27. marec 2026\, ob 17. uri v prireditvenem prostoru \nPeto srečanje druge sezone.Gost: Marko Pogačnik s predavanjem Bitja narave\, soustvarjalci vrta.Srečanje vodi Vita Matjac – Floravita. \n\nCeloletna bralna akcija\n12 mesecev = 12 priložnosti za dobro branje\nTema meseca marca je romantika. \nNa Oddelku za odrasle vas čakajo ljubezenske zgodbe iz preteklih stoletij\, na Oddelku za odrasle s strokovnim gradivom pa knjige\, ki pomagajo postati boljši romantik. \n\nOddelek za odrasle\nBralni klub Na isti strani\ntorek\, 24. marec 2026\, ob 17. uri \nPogovor o knjigi Tujka avtorja Stefana Hertmansa.Bralni klub vodi Maruša Mugerli Lavrenčič. \n\nIz verza v pesem\nod 2. do 31. marca 2026 \nStopite v dialog s poezijo Srečka Kosovela in iz njegovih verzov ustvarite lastno pesem. \n\nBerite z Manco Košir\nod 5. do 31. marca 2026 \nIzpostavljene knjige\, ki jih je Manca Košir priporočala v reviji Bukla. \n\nMoja knjižna polica\nod 1. januarja do 31. marca 2026 \nPriporočila knjižničarke Gordane Magdalenić in uporabnice knjižnice Anuške Jelaska Lozič. \n\nPrimorci beremo že 20 let\nod 1. do 31. marca 2026 \nPredstavitev izbranih del iz projekta Primorci beremo (izbor iz leta 2011). \n\nNagradna pomladna uganka za odrasle\nod 1. marca 2025 do 31. maja 2026 \nKrižanka s potopisi in njihovimi avtorji. \n\nDelavnica popravljanja gradiva\nsreda\, 25. marec 2026\, ob 17. uri \nDelavnico vodi Enisa Brkić.Prijave: izposoja@gkfb.si \n\nRazstave\n\n\n2.–31. marec 2026 – veliki razstavni prostorMarjana Sulič – Mana: Mana slikarstvo\, razstava slik in figur. \n\n\n2.–31. marec 2026 – mali razstavni prostorLara Makovec: Moj risani svet\, likovna razstava. \n\n\n18.–31. marec 2026 – mali razstavni prostorKosovel skozi čas: prevodi\, priredbe\, preobrazbe\, priložnostna razstava.
URL:https://www.robin.si/dogodek/nova-gorica-knjiznica-franceta-bevka-dogodki-v-marcu-2026/
END:VEVENT
BEGIN:VEVENT
DTSTART;TZID=Europe/Ljubljana:20260305T160000
DTEND;TZID=Europe/Ljubljana:20260326T220000
DTSTAMP:20260421T155421
CREATED:20260302T080335Z
LAST-MODIFIED:20260302T080338Z
UID:86106-1772726400-1774562400@www.robin.si
SUMMARY:AJDOVŠČINA\, MC Hiša mladih - Cajt za mlade
DESCRIPTION:Vsak četrtek se nam lahko pridružiš v Hiši mladih\, kjer združujemo učenje in zabavo. Med 14. in 16. uro nudimo brezplačno učno pomoč\, kjer lahko v sproščenem okolju opraviš domače naloge ali utrdiš znanje.\nPo učnem delu pa sledi čas za druženje – od 16. do 18. ure pripravljamo zabavne igre in ustvarjalne izzive in odpiramo prostor za sproščeno druženje. \n\n3. ob 16.00: Kalčeto turnir(Pomeri se v namiznem nogometu!)\nObvezne prijave: https://forms.gle/9tYNgEHmrSdstgX56)\n3. ob 16.00: Tea&Art(Skuhali bomo čaj in se družili ob kreativnem barvanju.)\n3. ob 16.00: Game time(Druženje ob igranju družabnih iger.)\n3. od 15.00 do 22.00: Dejavnosti v okviru FestivalaKlementina (Foto delavnica\, Šiviljska popravljalnica\, Predavanje Moč treh rastlin\, Stand-up večer).
URL:https://www.robin.si/dogodek/ajdovscina-mc-hisa-mladih-cajt-za-mlade/
END:VEVENT
BEGIN:VEVENT
DTSTART;TZID=Europe/Ljubljana:20260306T190000
DTEND;TZID=Europe/Ljubljana:20260410T000000
DTSTAMP:20260421T155421
CREATED:20260225T074847Z
LAST-MODIFIED:20260225T074849Z
UID:85814-1772823600-1775779200@www.robin.si
SUMMARY:NOVA GORICA\, Mestna galerija - Razstava Nenehno gibanje\, slike
DESCRIPTION:Italijanska slikarka Ariana Ellero\, ki prihaja iz okolice Vidma\, se bo prvič predstavila v naši galeriji s ciklom najnovejših slik\, nastalih v zadnjem ustvarjalnem obdobju. Njeno likovno raziskovanje temelji na subtilnih barvnih kompozicijah\, v katerih se osredotoča na avtonomne likovne prvine – barvo\, svetlobo in obliko – s pomočjo katerih preizprašuje meje med podobo\, zaznavo in vizualno reprezentacijo. Umetnica s prepoznavno senzibilnostjo raziskuje odnos med nenehno spreminjajočimi vizualnimi prostori in emocijami ter s tem odpira in širi povsem nova asociativna polja. V njenih platnih se prelivajo občutja\, ki nagovarjajo gledalca na intuitivni ravni. Razstava prinaša vpogled v slikarkin razvoj in njeno tenkočutno vizijo sodobne umetnosti.
URL:https://www.robin.si/dogodek/nova-gorica-mestna-galerija-razstava-nenehno-gibanje-slike/
END:VEVENT
BEGIN:VEVENT
DTSTART;TZID=Europe/Ljubljana:20260317T000000
DTEND;TZID=Europe/Ljubljana:20260322T000000
DTSTAMP:20260421T155421
CREATED:20260313T062153Z
LAST-MODIFIED:20260313T062153Z
UID:86867-1773705600-1774137600@www.robin.si
SUMMARY:BUDANJE\, Pizzeria Anja - Zmajarsko tekmovanje v preletih Aeros winter race 2026
DESCRIPTION:Registracija tekmovanja: Picerija Anja\, Budajne\, 17.03.2026 - 22.03.2026\nZmajersko tekmovanje v preletih Aeros winter race 2026 bo letos že štirinajstič potekalo v Vipavski dolini od 17. do 22. marca. Registracija tekmovanja je v Piceriji Anja v Budajnah. Tekma je prva mednarodna tekma v koledarskem letu v Evropi in se hkrati šteje za državno prvenstvo Slovenije. Pričakuje se več kot 70 tekmovalcev izven naših meja in naše najboljše pilote.
URL:https://www.robin.si/dogodek/budanje-pizzeria-anja-zmajarsko-tekmovanje-v-preletih-aeros-winter-race-2026/
END:VEVENT
BEGIN:VEVENT
DTSTART;TZID=Europe/Ljubljana:20260318T000000
DTEND;TZID=Europe/Ljubljana:20260331T000000
DTSTAMP:20260421T155421
CREATED:20260313T062559Z
LAST-MODIFIED:20260313T062601Z
UID:86880-1773792000-1774915200@www.robin.si
SUMMARY:NOVA GORICA\, Knjižnica Franceta Bevka - Razstava Kosovel skozi čas: prevodi\, priredbe\, preobrazbe
DESCRIPTION:Priložnostna razstava ob Kosovelovem letu. \nRazstava je na ogled v malem razstavnem prostoru.
URL:https://www.robin.si/dogodek/nova-gorica-knjiznica-franceta-bevka-razstava-kosovel-skozi-cas-prevodi-priredbe-preobrazbe/
END:VEVENT
BEGIN:VEVENT
DTSTART;TZID=Europe/Ljubljana:20260319T180000
DTEND;TZID=Europe/Ljubljana:20260415T180000
DTSTAMP:20260421T155421
CREATED:20260302T080824Z
LAST-MODIFIED:20260302T080826Z
UID:86123-1773943200-1776276000@www.robin.si
SUMMARY:AJDOVŠČINA\, MC Hiša mladih - Fotografska razstava: Skriti kotički Ajdovščine
DESCRIPTION:Razstava predstavlja izbor fotografij osnovnošolcev in srednješolcev\, ki so skozi objektiv raziskovali Ajdovščino ter iskali njene skrite\, tihe in pogosto spregledane kotičke.\nMladi ustvarjalci so navdih našli v občutljivem pogledu Milana Klemenčiča\, slikarja\, fotografa in utemeljitelja slovenskega lutkarstva\, ki je pomemben del svojega ustvarjanja posvetil prav Ajdovščini. \nFotografije razkrivajo drobne podrobnosti\, sence\, ulice in zgodbe mesta ter nas vabijo\, da Ajdovščino pogledamo z novimi očmi. \nNa dogodku bomo predstavili sodelujoče mlade fotografe ter razglasili najboljše fotografije natečaja. \nVabljeni na otvoritev razstave\,19. 3. 2026 ob 18.00 v Galeriji Hiša mladih Ajdovščina. \nRazstava bo na ogled do 15. 4. 2026.
URL:https://www.robin.si/dogodek/ajdovscina-mc-hisa-mladih-fotografska-razstava-skriti-koticki-ajdovscine/
END:VEVENT
BEGIN:VEVENT
DTSTART;TZID=Europe/Ljubljana:20260320T190000
DTEND;TZID=Europe/Ljubljana:20260410T000000
DTSTAMP:20260421T155421
CREATED:20260316T125636Z
LAST-MODIFIED:20260316T125639Z
UID:86986-1774033200-1775779200@www.robin.si
SUMMARY:AJDOVŠČINA\, Lokarjeva galerija - Razstava: Jadranka Ferjančič\, Gregor Maver\, Andrej Perko
DESCRIPTION:
URL:https://www.robin.si/dogodek/ajdovscina-lokarjeva-galerija-razstava-jadranka-ferjancic-gregor-maver-andrej-perko/
END:VEVENT
BEGIN:VEVENT
DTSTART;TZID=Europe/Ljubljana:20260321T103000
DTEND;TZID=Europe/Ljubljana:20260321T103000
DTSTAMP:20260421T155421
CREATED:20260223T140827Z
LAST-MODIFIED:20260223T140829Z
UID:85715-1774089000-1774089000@www.robin.si
SUMMARY:NOVA GORICA\, SNG - Trije psi
DESCRIPTION:Abonma VELIKI POLŽEK\, IZVEN
URL:https://www.robin.si/dogodek/nova-gorica-sng-trije-psi/
END:VEVENT
BEGIN:VEVENT
DTSTART;TZID=Europe/Ljubljana:20260321T160000
DTEND;TZID=Europe/Ljubljana:20260321T160000
DTSTAMP:20260421T155421
CREATED:20260316T133029Z
LAST-MODIFIED:20260316T133031Z
UID:87003-1774108800-1774108800@www.robin.si
SUMMARY:KANAL\, športna dvorana - Odbojkarska tekma: OK Neptun : Triglav Kranj
DESCRIPTION:Vabljeni na ogled tekme 18. kola 2. DOL ženske zahod med OK Neptun in Triglav Kranj\, v soboto\, 21.3.2026 ob 16.uri.
URL:https://www.robin.si/dogodek/kanal-sportna-dvorana-odbojkarska-tekma-ok-neptun-triglav-kranj/
END:VEVENT
BEGIN:VEVENT
DTSTART;TZID=Europe/Ljubljana:20260321T160000
DTEND;TZID=Europe/Ljubljana:20260321T160000
DTSTAMP:20260421T155421
CREATED:20260316T133115Z
LAST-MODIFIED:20260316T133118Z
UID:87005-1774108800-1774108800@www.robin.si
SUMMARY:ROČINJ\, Dom Ivana Staniča - Velikonočna delavnica
DESCRIPTION:Velikonočna ustvarjalna delavnica \n21.3.2026\, ob 16.00 \nDom Valentina Staniča Ročinj
URL:https://www.robin.si/dogodek/rocinj-dom-ivana-stanica-velikonocna-delavnica/
END:VEVENT
BEGIN:VEVENT
DTSTART;TZID=Europe/Ljubljana:20260321T190000
DTEND;TZID=Europe/Ljubljana:20260321T190000
DTSTAMP:20260421T155421
CREATED:20260226T094707Z
LAST-MODIFIED:20260226T094754Z
UID:85900-1774119600-1774119600@www.robin.si
SUMMARY:BRDA- HUM\, Dvorana Hum - komedija: SPOMINI V MEGLI
DESCRIPTION:Komedija v produkciji King Kong teatra 
URL:https://www.robin.si/dogodek/brda-hum-dvorana-hum-komedija-hipohondrija-ali-na-smrt-zdrav-2/
END:VEVENT
BEGIN:VEVENT
DTSTART;TZID=Europe/Ljubljana:20260321T190000
DTEND;TZID=Europe/Ljubljana:20260321T190000
DTSTAMP:20260421T155421
CREATED:20260303T101428Z
LAST-MODIFIED:20260303T101430Z
UID:86193-1774119600-1774119600@www.robin.si
SUMMARY:AJDOVŠČINA\, Rustjeva hiša kruha -  Večer Pozdrav pomladi z DJ Baromatom
DESCRIPTION:abljeni na Večer Pozdrav pomladi z DJ Baromatom\, ki bo v soboto\, 21. marca\, od 19. ure dalje. \nSkupaj bomo nazdravili prihodu pomladi\, ob tej priložnosti pa tudi uradno odprli naš zunanji atrij – popoln prostor za sproščene večere pod zvezdami. \nZa odlično vzdušje bo poskrbel DJ Baromat\, mi pa bomo pripravili posebno pomladno ponudbo 3+1 GRATIS Pomladni koktajl. Seveda ne bodo manjkali niti okusni prigrizki. \nPridružite se nam na večeru dobre glasbe\, osvežujočih koktajlov in prijetnega druženja. Naj skupaj pozdravimo pomlad!
URL:https://www.robin.si/dogodek/ajdovscina-rustjeva-hisa-kruha-vecer-pozdrav-pomladi-z-dj-baromatom/
END:VEVENT
BEGIN:VEVENT
DTSTART;TZID=Europe/Ljubljana:20260321T190000
DTEND;TZID=Europe/Ljubljana:20260321T190000
DTSTAMP:20260421T155421
CREATED:20260316T064843Z
LAST-MODIFIED:20260316T064846Z
UID:86963-1774119600-1774119600@www.robin.si
SUMMARY:SEŽANA Kosovelov dom - Ko se preteklost zavrti v sedanjosti
DESCRIPTION:20 let plesa in pesmi\nKD Kraški šopek Sežana \nPisalo se je leto 2006\, ko so se v mesecu februarju člani iz italijanskega in slovenskega Krasa družili ter ustanovili Kulturno društvo Kraški šopek. Od takrat pa do danes\, so v društvu nanizali preko 840 nastopov po Sloveniji in tujini. Na svoji prvi predstavitvi\, so zaplesali v svečanih oblačilih – nošah\, ki jih delajo prepoznavne še danes.
URL:https://www.robin.si/dogodek/sezana-kosovelov-dom-ko-se-preteklost-zavrti-v-sedanjosti/
END:VEVENT
BEGIN:VEVENT
DTSTART;TZID=Europe/Ljubljana:20260321T190000
DTEND;TZID=Europe/Ljubljana:20260321T190000
DTSTAMP:20260421T155421
CREATED:20260316T130142Z
LAST-MODIFIED:20260316T130145Z
UID:86991-1774119600-1774119600@www.robin.si
SUMMARY:ŠEMPETER PRI GORICI\, Coroninijev dvorec - 4. koncert mladih talentov
DESCRIPTION:Maša Šuligoj\, vokal in Jani Klančič\, klavir \nMatija Podbersič\, trobenta in Blaž Pahor\, klavir \nMatej Berlot\, kitara \nRok Berlot\, violina in Blaž Pahor\, klavir
URL:https://www.robin.si/dogodek/sempeter-pri-gorici-coroninijev-dvorec-4-koncert-mladih-talentov/
END:VEVENT
BEGIN:VEVENT
DTSTART;TZID=Europe/Ljubljana:20260321T201500
DTEND;TZID=Europe/Ljubljana:20260321T201500
DTSTAMP:20260421T155421
CREATED:20260317T064832Z
LAST-MODIFIED:20260317T064835Z
UID:87023-1774124100-1774124100@www.robin.si
SUMMARY:NOVA GORICA\, kulturni dom - Film: EL Eco
DESCRIPTION:
URL:https://www.robin.si/dogodek/nova-gorica-kulturni-dom-film-el-eco/
END:VEVENT
END:VCALENDAR